BEGIN:VCALENDAR
VERSION:2.0
PRODID:-//ChamberMaster//Event Calendar 2.0//EN
METHOD:PUBLISH
X-PUBLISHED-TTL:P3D
REFRESH-INTERVAL:P3D
CALSCALE:GREGORIAN
BEGIN:VEVENT
DTSTART:20221207T150000Z
DTEND:20221207T160000Z
X-MICROSOFT-CDO-ALLDAYEVENT:FALSE
SUMMARY:Golf Committee Meeting
DESCRIPTION:
X-ALT-DESC;FMTTYPE=text/html:
LOCATION:Chamber Lower Boardroom & Virtual
UID:e.1362.1453
SEQUENCE:3
DTSTAMP:20260420T123539Z
URL:https://business.fentonchamber.com/events/details/golf-committee-meeting-02-20-2014-1453
END:VEVENT

END:VCALENDAR
