BEGIN:VCALENDAR
VERSION:2.0
PRODID:-//ChamberMaster//Event Calendar 2.0//EN
METHOD:PUBLISH
X-PUBLISHED-TTL:P3D
REFRESH-INTERVAL:P3D
CALSCALE:GREGORIAN
BEGIN:VEVENT
DTSTART:20221203T220000Z
DTEND:20221204T000000Z
X-MICROSOFT-CDO-ALLDAYEVENT:FALSE
SUMMARY:Goldens on Parade
DESCRIPTION:Join us with your Golden Retriever dressed up in lights for the Jinglefest Parade. Sponsored by Chris & Donna Anderson\, Keller Williams First Realty
X-ALT-DESC;FMTTYPE=text/html:Join us with your Golden Retriever dressed up in lights for the Jinglefest Parade. Sponsored by Chris &amp\; Donna Anderson\, Keller Williams First Realty
LOCATION:Downtown Fenton
UID:e.1362.8961
SEQUENCE:3
DTSTAMP:20260420T092316Z
URL:https://business.fentonchamber.com/events/details/goldens-on-parade-8961
END:VEVENT

END:VCALENDAR
