BEGIN:VCALENDAR
VERSION:2.0
PRODID:-//ChamberMaster//Event Calendar 2.0//EN
METHOD:PUBLISH
X-PUBLISHED-TTL:P3D
REFRESH-INTERVAL:P3D
CALSCALE:GREGORIAN
BEGIN:VEVENT
DTSTART:20121115T230000Z
DTEND:20121116T010000Z
X-MICROSOFT-CDO-ALLDAYEVENT:FALSE
SUMMARY:Gerych's Ladies Night
DESCRIPTION:Come and enjoy a fun night out with great food\, beverages\, pampering and shopping! Grab your girls and come down to Gerych's.
X-ALT-DESC;FMTTYPE=text/html:Come and enjoy a fun night out with great food\, beverages\, pampering and shopping! Grab your girls and come down to Gerych&#39\;s.
LOCATION:713 Silver Lake Road
UID:e.1362.188
SEQUENCE:3
DTSTAMP:20260426T042827Z
URL:https://business.fentonchamber.com/events/details/gerych-s-ladies-night-11-15-2012-188
END:VEVENT

END:VCALENDAR
