BEGIN:VCALENDAR
VERSION:2.0
PRODID:-//ChamberMaster//Event Calendar 2.0//EN
METHOD:PUBLISH
X-PUBLISHED-TTL:P3D
REFRESH-INTERVAL:P3D
CALSCALE:GREGORIAN
BEGIN:VEVENT
DTSTART:20210406T213000Z
DTEND:20210406T223000Z
X-MICROSOFT-CDO-ALLDAYEVENT:FALSE
SUMMARY:Free Wellness Class: Standard Process
DESCRIPTION:Good health comes from good nutrition. What makes Standard Process different\, and how can it help you in your wellness journey? Standard Process delivers complex nutrients with whole food based supplements. A majority of the whole foods used are grown right in Wisconsin on their certified organic farm! Wellness classes will take place on Tuesdays each month. They are FREE and open to the public. Drop by and bring a friend! Classes will be held in our Community Room. We will be following social distancing guidelines\, and a mask will be required for those who are medically able to wear one.
X-ALT-DESC;FMTTYPE=text/html:Good health comes from good nutrition. What makes Standard Process different\, and how can it help you in your wellness journey? Standard Process delivers complex nutrients with whole food based supplements. A majority of the whole foods used are grown right in Wisconsin on their certified organic farm! Wellness classes will take place on Tuesdays each month. They are FREE and open to the public. Drop by and bring a friend! Classes will be held in our Community Room. We will be following social distancing guidelines\, and a mask will be required for those who are medically able to wear one.
LOCATION:Nutrition Works 2815 W. Silver Lake Road\, Fenton
UID:e.1362.7997
SEQUENCE:3
DTSTAMP:20260419T132554Z
URL:https://business.fentonchamber.com/events/details/free-wellness-class-standard-process-7997
END:VEVENT

END:VCALENDAR
