BEGIN:VCALENDAR
VERSION:2.0
PRODID:-//ChamberMaster//Event Calendar 2.0//EN
METHOD:PUBLISH
X-PUBLISHED-TTL:P3D
REFRESH-INTERVAL:P3D
CALSCALE:GREGORIAN
BEGIN:VEVENT
DTSTART:20210316T213000Z
DTEND:20210316T223000Z
X-MICROSOFT-CDO-ALLDAYEVENT:FALSE
SUMMARY:Free Wellness Class: Gaia & Terry Naturally
DESCRIPTION:Learn about each of these premium supplement brands and how they can help you on your wellness journey. Gaia Herbs is focused on connecting people\, plants and planet to create healing. Terry Naturally was founded to inspire you to make lasting changes to your health with products that combine the best of what science and nature have to offer. Wellness classes will take place on Tuesday evenings each month. They are FREE and open to the public. Drop by and bring a friend! Classes will be held in our Community Room. We will be following social distancing guidelines\, and a mask will be required for those who are medically able to wear one.
X-ALT-DESC;FMTTYPE=text/html:Learn about each of these premium supplement brands and how they can help you on your wellness journey. Gaia Herbs is focused on connecting people\, plants and planet to create healing. Terry Naturally was founded to inspire you to make lasting changes to your health with products that combine the best of what science and nature have to offer. Wellness classes will take place on Tuesday evenings each month. They are FREE and open to the public. Drop by and bring a friend! Classes will be held in our Community Room. We will be following social distancing guidelines\, and a mask will be required for those who are medically able to wear one.
LOCATION:Nutrition Works: 2815 W. Silver Lake Road\, Fenton
UID:e.1362.7996
SEQUENCE:3
DTSTAMP:20260419T121606Z
URL:https://business.fentonchamber.com/events/details/free-wellness-class-gaia-terry-naturally-7996
END:VEVENT

END:VCALENDAR
