BEGIN:VCALENDAR
VERSION:2.0
PRODID:-//ChamberMaster//Event Calendar 2.0//EN
METHOD:PUBLISH
X-PUBLISHED-TTL:P3D
REFRESH-INTERVAL:P3D
CALSCALE:GREGORIAN
BEGIN:VEVENT
DTSTART:20230930T130000Z
DTEND:20230930T180000Z
X-MICROSOFT-CDO-ALLDAYEVENT:FALSE
SUMMARY:FREE BIKES 4 KIDZ
DESCRIPTION:Drop off a used bike at The Fenton Home Depot. Over the last five years 10\,350 bikes have been given to underserved kids in our community. Each kid receives a new helmet as well. The goal is to collect 4\,000 bikes this year\,
X-ALT-DESC;FMTTYPE=text/html:Drop off a used bike at The Fenton Home Depot. Over the last five years 10\,350 bikes have been given to underserved kids in our community. Each kid receives a new helmet as well. The goal is to collect 4\,000 bikes this year\,
LOCATION:15255 Silver Parkway\, Fenton\, MI
UID:e.1362.9286
SEQUENCE:3
DTSTAMP:20260419T191512Z
URL:https://business.fentonchamber.com/events/details/free-bikes-4-kidz-9286
END:VEVENT

END:VCALENDAR
