BEGIN:VCALENDAR
VERSION:2.0
PRODID:-//ChamberMaster//Event Calendar 2.0//EN
METHOD:PUBLISH
X-PUBLISHED-TTL:P3D
REFRESH-INTERVAL:P3D
CALSCALE:GREGORIAN
BEGIN:VEVENT
DTSTART:20150830T160000Z
DTEND:20150830T210000Z
X-MICROSOFT-CDO-ALLDAYEVENT:FALSE
SUMMARY:Fratz Consignment Summer Celebration
DESCRIPTION:Join Fratz Consignment for a Summer Celebration and check out all the improvements they have made to their building!\n\n\n\nFood will be provided.
X-ALT-DESC;FMTTYPE=text/html:Join Fratz Consignment for a Summer Celebration and check out all the improvements they have made to their building!<br />\n<br />\nFood will be provided.
LOCATION:Fratz Consignment 14219 Torrey Rd. Fenton\, MI 48430
UID:e.1362.3092
SEQUENCE:3
DTSTAMP:20260425T230130Z
URL:https://business.fentonchamber.com/events/details/fratz-consignment-summer-celebration-08-30-2015-3092
END:VEVENT

END:VCALENDAR
