BEGIN:VCALENDAR
VERSION:2.0
PRODID:-//ChamberMaster//Event Calendar 2.0//EN
METHOD:PUBLISH
X-PUBLISHED-TTL:P3D
REFRESH-INTERVAL:P3D
CALSCALE:GREGORIAN
BEGIN:VEVENT
DTSTART:20230331T200000Z
DTEND:20230331T230000Z
X-MICROSOFT-CDO-ALLDAYEVENT:FALSE
SUMMARY:Fish Fry Friday's at St John's Fenton
DESCRIPTION:Fish Fry season has returned to Fenton!!!\n\nEVERY FRIDAY OF MARCH\n\n2023 Knights of Columbus Fish Fry\n\nSt John the Evangelist Catholic Parish\n\n600 N Adelaide St\, Fenton\, MI\n\nFeaturing a return to dine-in eating and an expanded menu\nAlongside the centerpiece feature of one of the best 3-piece Fried and Baked Fish Dinners in Genesee\, Livingston and Oakland counties are the return of our Cajun Fish and 6-piece Shrimp Dinner offerings. \n\n\n\n\nFish & Shrimp dinner $14.00\n"Kids' Meal" (Mac & Cheese\, Fries and Applesauce) for $6.00\n\nAll Fish & Shrimp dinners include at NO extra charge your choice of:\n\nBaked Potato or Fries\, Coleslaw\, Applesauce\, Roll\, and free\, homemade Desserts\n\nFor those dining in\, you get a FREE Lemonade or Coffee
X-ALT-DESC;FMTTYPE=text/html:<div style="text-align:center"><span style="color:#0000CD"><strong>Fish Fry season has returned to Fenton!!!</strong></span><br />\n<span style="font-size:14px"><strong><span style="color:#000080">EVERY FRIDAY OF MARCH</span></strong></span></div>\n\n<div style="text-align:center"><span style="font-size:20px"><strong><span style="color:#B22222">2023 Knights of Columbus Fish Fry</span></strong></span><br />\n<span style="font-size:12px"><em><strong>St John the Evangelist Catholic Parish<br />\n600 N Adelaide St\, Fenton\, MI</strong></em></span><br />\n<strong><span style="color:#B22222">Featuring a return to dine-in eating and an expanded menu</span></strong></div>\n<em><strong>Alongside the centerpiece feature of one of the best <span style="color:#0000CD"><u>3-piece Fried and Baked Fish Dinners</u></span> in Genesee\, Livingston and Oakland counties are the return of our<u> <span style="color:#0000CD"><span style="font-size:14px">Cajun Fish and 6-piece Shrimp Dinner </span></span></u>offerings.&nbsp\;</strong></em>\n\n<div style="text-align:center">\n<div><br />\n<span style="color:#800080"><strong><span style="font-size:16px">Fish &amp\; Shrimp dinner $14.00</span></strong></span></div>\n<span style="color:#800080"><strong><span style="font-size:16px">&ldquo\;Kids&rsquo\; Meal&rdquo\; (Mac &amp\; Cheese\, Fries and Applesauce) for $6.00</span></strong></span><br />\n<em><span style="font-size:12px"><strong>All Fish &amp\; Shrimp dinners include at NO extra charge your choice of:</strong></span></em></div>\n\n<div style="text-align:center"><u><span style="color:#0000CD"><strong><span style="font-size:12px">Baked Potato or Fries\, Coleslaw\, Applesauce\, Roll\, and free\, homemade Desserts</span></strong></span></u><br />\n<strong><span style="font-size:12px">For those dining in\, you get a <span style="color:#0000CD"><u>FREE Lemonade or Coffee</u></span></span></strong></div>\n
LOCATION:Fr. Harvey Activity Center on the campus of St John the Evangelist parish 600 N Adelaide St.\, Fenton MI
UID:e.1362.9227
SEQUENCE:3
DTSTAMP:20260420T061601Z
URL:https://business.fentonchamber.com/events/details/fish-fry-friday-s-at-st-john-s-fenton-03-31-2023-9227
END:VEVENT

END:VCALENDAR
