BEGIN:VCALENDAR
VERSION:2.0
PRODID:-//ChamberMaster//Event Calendar 2.0//EN
METHOD:PUBLISH
X-PUBLISHED-TTL:P3D
REFRESH-INTERVAL:P3D
CALSCALE:GREGORIAN
BEGIN:VEVENT
DTSTART:20170617T120000Z
DTEND:20170617T160000Z
X-MICROSOFT-CDO-ALLDAYEVENT:FALSE
SUMMARY:First Try Triathlon
DESCRIPTION:https://sites.google.com/site/firsttrytriathlon/home-page\n\nFirstTry Triathlon - 2014 300 yd Swim\, 9.1 mi Bike\, and 2 mi Run Saturday\, June 21st\, 2014\n\nWelcome to the fourth annual FirstTry Triathlon\, a triathlon designed specifically for first timers.  If you are not a first time triathlete please sign up for the FastTry\, which is the competitive version of the FirstTry.  The distance is what we call a Super Sprint (half a sprint).  \n\n The concept of the FirstTry is to offer a race that gives you the experience of racing in a "real" triathlon without the intimidation factor. Let's start by addressing many of the fears that first timers have:  \n\n"I will drown" - The swim is a 300 yd out and back\, so if you can swim the distance of three football fields you can cover the distance.  The wave starts will allow us to put enough people in the water with you to give you the feeling of what the triathlon swim is about\, without the fear of someone swimming over your back.  There will be a "course talk" at the beginning of the race to answer your questions.  There will be a regatta of kayaks and pontoon boats if you decide you need rest or (if you ask nice) you might even sip a margarita.  \n\n"I don't have a clue what to do in a...what is it called again\, Transition"? - Transition will be staffed with "coaches" who will help you set up and answer your questions about what to do in transition.  They can point you in the right direction and discretely help you if you start to do something silly (don't get naked in transition).\n\n\n\n"I will get lost or crash on the bike" - The bike course is only 9 miles long and is mostly pancake flat with some small hills. There are only four turns and the course will be heavily marshaled so you will know what to do.  \n\n \n\n"I can't run" - The 2 mi run course is an "out and back" on the bike trail in Linden County Park.  You will run one mile\, turn around and head back to finish your first real triathlon. \n\n \n\n"I will be last" - You won't be last.  We have someone officially assigned to be last.  This person is designated at the 'lantern rouge'\, or the red lantern.  \n\n \n\nThe race is sponsored by the CSCTriclub\, a group of local triathletes who are dedicated to bringing new athletes into the sport of Triathlon.  Grab a friend and start training now as this race only comes once a year and you first time comes only once in your life.  Many first time triathletes will go on to compete in races around the world.  Triathlon attracts many people because of the lifestyle.  The athletes are friendly and approachable with wealth of knowledge.  We want to see people fall in love with the sport like we have.  When you get to a point where triathlon is adopted as a lifestyle change you are not subject to the pitfalls of diets and targeted weight loss - you are in control.  Triathlon is a sport that has longevity because if you are having running issues\, you hit the pool hard until the issues are gone.  If you have trouble finding time for the bike your running will carry over.  Swimming is a sport that sees the least injuries of any.  At the FirstTry finish line you graduate as triathlete and you will be filled with a sense of accomplishment that you simply have to experience to truly understand.  \n\n \n\nTraining for the FirstTry Triathlon is simple and takes little time commitment. Jump in the pool\, swim a few laps\, then jump on your bike\, ride a couple of miles and then go for a short run afterwards. If you feel tired\, stop. Go have a beer\, go to work\, watch TV\, or phone a friend. If you feel good\, keep going and keep increasing the distances week by week. If you get too busy with work\, and take a few days or a week off training\, so what? The key is to slowly incorporate training into your lifestyle. Remember\, triathlons are fun! If you follow a regular training schedule\, you will just naturally get faster. Our simple diet and training program: eat less food and exercise three times a week. \n\n \n\nHave fun training\, and we'll see you at the FirstTry Triathlon!
X-ALT-DESC;FMTTYPE=text/html:<span style="font-size:16px\;"><a href="https://sites.google.com/site/firsttrytriathlon/home-page">https://sites.google.com/site/firsttrytriathlon/home-page</a><br />\nFirstTry Triathlon - 2014 300 yd Swim\, 9.1 mi Bike\, and 2 mi Run<span style="font-family: times new roman\,serif\;"> Saturday\, June 21st\, 2014</span></span><br />\n<span style="font-family:times new roman\,serif\;"><span style="font-size:12.0pt\;">Welcome to the fourth annual FirstTry Triathlon\,&nbsp\;a triathlon designed specifically for first timers. &nbsp\;If you are not a first time triathlete please sign up for the FastTry\, which is the competitive version of the FirstTry. &nbsp\;The distance is what we call a Super Sprint (half a sprint).&nbsp\; </span></span><br />\n&nbsp\;<span style="font-family:times new roman\,serif\;"><span style="font-size:12.0pt\;">The concept of the FirstTry is to&nbsp\;offer a race that gives you the experience of racing in a &quot\;real&quot\; triathlon without the intimidation factor. Let&#39\;s start by addressing many of the fears that first timers have:&nbsp\;&nbsp\;</span></span><br />\n<strong><span style="font-family:times new roman\,serif\;"><span style="font-size:12.0pt\;">&quot\;I will drown&quot\;</span></span></strong><span style="font-family:times new roman\,serif\;"><span style="font-size:12.0pt\;"> - The swim is a 300 yd out and back\, so if you can swim the distance of three football fields you can cover the distance.&nbsp\; The wave starts will allow us to put enough people in the water with you to give you the feeling of what the triathlon swim is about\, without the fear of someone swimming over your back.&nbsp\; There will be a &quot\;course talk&quot\; at the beginning of the race to answer your questions.&nbsp\; There will be a regatta of kayaks and pontoon boats if you decide you&nbsp\;need rest or (if you ask nice) you might even sip a margarita.&nbsp\; </span></span><br />\n<strong><span style="font-family:times new roman\,serif\;"><span style="font-size:12.0pt\;">&quot\;I don&#39\;t have a clue what to do in a...what is it called again\, Transition&quot\;?</span></span></strong><span style="font-family:times new roman\,serif\;"><span style="font-size:12.0pt\;"> - Transition will be staffed with &quot\;coaches&quot\; who will help you set up and answer your questions about what to do in transition.&nbsp\; They can point you in the right direction and discretely help you if you start to do something silly (don&#39\;t get naked in transition).</span></span><br />\n<br />\n<strong><span style="font-family:times new roman\,serif\;"><span style="font-size:12.0pt\;">&quot\;I will get lost or crash on the bike&quot\;</span></span></strong><span style="font-family:times new roman\,serif\;"><span style="font-size:12.0pt\;"> - The bike course is only 9 miles long and is mostly pancake flat with some small hills. There are only four turns and the course will be heavily marshaled so you will know what to do.&nbsp\; </span></span><br />\n&nbsp\;<br />\n<strong><span style="font-family:times new roman\,serif\;"><span style="font-size:12.0pt\;">&quot\;I can&#39\;t run&quot\;</span></span></strong><span style="font-family:times new roman\,serif\;"><span style="font-size:12.0pt\;"> - The&nbsp\;2 mi&nbsp\;run course is an &quot\;out and back&quot\; on the bike trail in Linden County Park.&nbsp\; You will run one mile\, turn around and&nbsp\;head back to finish your first real triathlon. </span></span><br />\n&nbsp\;<br />\n<strong><span style="font-family:times new roman\,serif\;"><span style="font-size:12.0pt\;">&quot\;I will be last&quot\;</span></span></strong><span style="font-family:times new roman\,serif\;"><span style="font-size:12.0pt\;"> - You won&#39\;t be last.&nbsp\; We have someone officially assigned to be last.&nbsp\; This person is designated at the &#39\;lantern rouge&#39\;\, or the red lantern.&nbsp\; </span></span><br />\n&nbsp\;<br />\n<span style="font-family:times new roman\,serif\;"><span style="font-size:12.0pt\;">The race is sponsored by the CSCTriclub\, a group of local triathletes who are dedicated to bringing new athletes into the sport of Triathlon.&nbsp\; Grab a friend and start training now as this race only comes once a year and you first time comes only&nbsp\;once in your life.&nbsp\; Many first time triathletes will go on to compete in races around the world.&nbsp\; Triathlon attracts many people because of the lifestyle.&nbsp\; The athletes are friendly and approachable with wealth of knowledge.&nbsp\;&nbsp\;We want to see people fall in love with the sport like we have.&nbsp\;&nbsp\;When you get to a point where&nbsp\;triathlon is adopted as a&nbsp\;lifestyle&nbsp\;change you are not subject to the pitfalls of diets and targeted weight loss - you are in control.&nbsp\; Triathlon is a sport that has longevity because if you are having running issues\, you hit the pool hard until the issues are gone.&nbsp\; If you have trouble finding time for the bike your running will carry over.&nbsp\; Swimming is a sport that sees the least injuries of any.&nbsp\;&nbsp\;At the FirstTry finish line you&nbsp\;graduate as triathlete and you will be filled with a sense of accomplishment that you simply have to experience to truly understand.&nbsp\; </span></span><br />\n&nbsp\;<br />\n<span style="font-family:times new roman\,serif\;"><span style="font-size:12.0pt\;">Training for the&nbsp\;FirstTry Triathlon is simple and&nbsp\;takes little time commitment. Jump in the pool\, swim a few laps\, then jump on your bike\, ride a couple of miles and then go for a short run afterwards. If you feel tired\, stop. Go have a beer\, go to work\, watch TV\, or phone a friend. If you feel good\, keep going and keep increasing the distances week by week. If you get too busy with work\, and take a few days or a week off training\, so what? The key is to slowly incorporate training into your lifestyle. Remember\, triathlons are fun! If you follow a regular training schedule\, you will just naturally get faster. Our simple diet and training program: eat less food and exercise three times a week. </span></span><br />\n&nbsp\;<br />\n<span style="font-size:14px\;"><span style="font-family: arial\;"><strong>Have fun training\, and we&rsquo\;ll see you at the FirstTry Triathlon!</strong></span></span><br />\n&nbsp\;
LOCATION:Byram Lake's Clover Beach Linden Country Park 15349 S. Linden Road Linden\, MI 48451 Course Descriptions Swim Easy 300 yard out-and-back swim in Byram Lake. The water temperature will be between 75 and 80 degrees F. WARM\, COMFORTABLE\, SAFE. Athletes who feel uncomfortable swimming may request the services from any of the number of kayaks that will be lining the course. Bike 9.1 mile loop starting from the transition area located at the beach parking lot at Linden County Park. The bike course will head north on Linden Rd (Bridge St)\, go though town\, and turn right on Rolston Rd toward Jennings Rd. You will then turn left (North) on Jennings Rd and head to Lahring Rd. At Lahring Rd you will turn left (West) and continue on Lahring Rd to Linden Rd. You'll make a final left turn (South) Linden Rd\, go past Rolson Rd\, through town\, and back to Linden County Park to the transition area. Run 2 miles out and back from the transition area onto the bike path\, toward the turn around at soccer fields.
UID:e.1362.1616
SEQUENCE:3
DTSTAMP:20260420T101537Z
URL:https://business.fentonchamber.com/events/details/first-try-triathlon-06-17-2017-1616
END:VEVENT

END:VCALENDAR
