BEGIN:VCALENDAR
VERSION:2.0
PRODID:-//ChamberMaster//Event Calendar 2.0//EN
METHOD:PUBLISH
X-PUBLISHED-TTL:P3D
REFRESH-INTERVAL:P3D
CALSCALE:GREGORIAN
BEGIN:VEVENT
DTSTART:20140623T160000Z
DTEND:20140623T200000Z
X-MICROSOFT-CDO-ALLDAYEVENT:FALSE
SUMMARY:Fenton Regional Chamber Open House
DESCRIPTION:Come and check out the Chamber's new location during our Open House\, Ribbon Cutting and Building Dedication!\n\n\n\nOpen House from 12:00 - 4:00pm\n\n\n\nRibbon Cutting & Building Dedication at 12:30pm\n\n\n\nLight refreshments will be served.
X-ALT-DESC;FMTTYPE=text/html:Come and check out the Chamber&#39\;s new location during our Open House\, Ribbon Cutting and Building Dedication!<br />\n<br />\nOpen House from 12:00 - 4:00pm<br />\n<br />\nRibbon Cutting &amp\; Building Dedication at 12:30pm<br />\n<br />\nLight refreshments will be served.<br />\n&nbsp\;
LOCATION:104 S. Adelaide Street Fenton\, MI 48430
UID:e.1362.1639
SEQUENCE:3
DTSTAMP:20260422T174607Z
URL:https://business.fentonchamber.com/events/details/fenton-regional-chamber-open-house-06-23-2014-1639
END:VEVENT

END:VCALENDAR
