BEGIN:VCALENDAR
VERSION:2.0
PRODID:-//ChamberMaster//Event Calendar 2.0//EN
METHOD:PUBLISH
X-PUBLISHED-TTL:P3D
REFRESH-INTERVAL:P3D
CALSCALE:GREGORIAN
BEGIN:VEVENT
DTSTART:20230202T220000Z
DTEND:20230203T023000Z
X-MICROSOFT-CDO-ALLDAYEVENT:FALSE
SUMMARY:Fenton Lions Club presents A Mid-Winter Night Out
DESCRIPTION:Join us for a mid-winter night out with food\, OPEN BAR\, and raffles!\n\nMusical entertainment brought to you by the DUELING PIANOS!\n\n \n\nDoors open at 5 pm for ticket sales.         \n\nLucky Chance Raffle?          Cash and card accepted!\n\nAll proceeds benefit the Fenton community!\n\n\n\nA Mid-Winter Night Out is our first annual event to raise money for the\n\nFenton Lions Club to give back to the community.\n\nAll proceeds go to the Fenton Lions Club to benefit all members of our Fenton community.\n\n \n\nCLICK HERE FOR TICKETS
X-ALT-DESC;FMTTYPE=text/html:<div style="text-align: center\;"><span style="color:#3399ff\;"><span style="font-size:18px\;">Join us for a mid-winter night out with food\, OPEN BAR\, and raffles!<br />\nMusical entertainment brought to you by the DUELING PIANOS!</span></span><br />\n&nbsp\;</div>\n\n<div style="text-align: center\;"><span style="font-size:14px\;">Doors open at 5 pm for ticket sales.&nbsp\; &nbsp\; &nbsp\; &nbsp\; &nbsp\;<br />\nLucky Chance Raffle?&nbsp\; &nbsp\; &nbsp\; &nbsp\; &nbsp\; Cash and card accepted!</span></div>\n\n<div style="text-align: center\;"><span style="font-size:14px\;">All proceeds benefit the Fenton community!<br />\n<br />\nA Mid-Winter Night Out is our first annual event to raise money for the<br />\nFenton Lions Club to give back to the community.<br />\nAll proceeds go to the Fenton Lions Club to benefit all members of our Fenton community.</span><br />\n&nbsp\;</div>\n\n<div style="text-align: center\;"><a href="https://www.eventbrite.com/e/fenton-lions-club-presents-a-mid-winter-night-out-tickets-494236293057"><span style="font-size:14px\;"><strong><span style="color:#0000CD\;">CLICK HERE FOR TICKETS</span></strong></span></a></div>\n
LOCATION:Fenton Winery & Brewery - 1370 North Long Lake Road Fenton\, MI 48430
UID:e.1362.9135
SEQUENCE:3
DTSTAMP:20260420T061531Z
URL:https://business.fentonchamber.com/events/details/fenton-lions-club-presents-a-mid-winter-night-out-9135
END:VEVENT

END:VCALENDAR
