BEGIN:VCALENDAR
VERSION:2.0
PRODID:-//ChamberMaster//Event Calendar 2.0//EN
METHOD:PUBLISH
X-PUBLISHED-TTL:P3D
REFRESH-INTERVAL:P3D
CALSCALE:GREGORIAN
BEGIN:VEVENT
DTSTART:20220311T140000Z
DTEND:20220311T150000Z
X-MICROSOFT-CDO-ALLDAYEVENT:FALSE
SUMMARY:Fenton Freedom Festival/Jinglefest Committee Meeting
DESCRIPTION:Both Fenton Freedom Festival and Jinglefest are holiday celebrations that invite businesses to participate by offering parade entries\, sponsorships\, and advertising packages. These two events provide a wide variety of holiday activities to celebrate and promote the Fenton & Linden area. This committee works to make these events successful for our community.\n\nVisit our website for more detailed information.
X-ALT-DESC;FMTTYPE=text/html:<span style="color:#0E101A\;"><span style="font-family:verdana\,sans-serif\;"><span style="font-size:11.0pt\;">Both Fenton Freedom Festival and Jinglefest are holiday celebrations that invite businesses to participate by offering parade entries\, sponsorships\, and advertising packages. These two events provide a wide variety of holiday activities to celebrate and promote the Fenton &amp\; Linden area. This committee works to make these events successful for our community.<br />\nVisit our website for more detailed information.</span></span></span>
LOCATION:Fenton Community & Cultural Center
UID:e.1362.48
SEQUENCE:3
DTSTAMP:20260423T180933Z
URL:https://business.fentonchamber.com/events/details/fenton-freedom-festival-jinglefest-committee-meeting-48
END:VEVENT

END:VCALENDAR
