BEGIN:VCALENDAR
VERSION:2.0
PRODID:-//ChamberMaster//Event Calendar 2.0//EN
METHOD:PUBLISH
X-PUBLISHED-TTL:P3D
REFRESH-INTERVAL:P3D
CALSCALE:GREGORIAN
BEGIN:VEVENT
DTSTART:20200307T150000Z
DTEND:20200308T200000Z
X-MICROSOFT-CDO-ALLDAYEVENT:FALSE
SUMMARY:Fenton Community Expo
DESCRIPTION:Click Here to view Pricing and Sign up date\n\n\n\nCurrent 2020 Expo Map
X-ALT-DESC;FMTTYPE=text/html:<a href="https://chambermaster.blob.core.windows.net/userfiles/UserFiles/chambers/1362/File/2020FentonExpoPacket.pdf">Click Here to view Pricing and Sign up date</a><br />\n<br />\n<a href="https://chambermaster.blob.core.windows.net/userfiles/UserFiles/chambers/1362/File/2020_ExpoMaprevised02282020.pdf">Current 2020 Expo Map</a>
LOCATION:Fenton High School Saturday: 10:00am - 5:00pm Sunday: 11:00am - 4:00pm
UID:e.1362.496
SEQUENCE:3
DTSTAMP:20260421T204140Z
URL:https://business.fentonchamber.com/events/details/fenton-community-expo-03-07-2020-496
END:VEVENT

END:VCALENDAR
