BEGIN:VCALENDAR
VERSION:2.0
PRODID:-//ChamberMaster//Event Calendar 2.0//EN
METHOD:PUBLISH
X-PUBLISHED-TTL:P3D
REFRESH-INTERVAL:P3D
CALSCALE:GREGORIAN
BEGIN:VEVENT
DTSTART:20230304T150000Z
DTEND:20230305T210000Z
X-MICROSOFT-CDO-ALLDAYEVENT:FALSE
SUMMARY:Fenton Community Expo
DESCRIPTION:Join us the first weekend in March at Fenton High School for the Fenton Community Expo! \n\n\n\nThe Community Expo boasts well over 100 exhibitors\, tons of prizes\, and giveaways to be won. Local food and entertainment\, a petting zoo for animal lovers\, and a Kids Zone where the fun never stops! With completely free admission to the public\, this staple Chamber community event is still going strong after 38 years!\n\n\n\n\n\nExhibitor Registration Information - CLICK HERE!\n\nExpo Map - Click Here! (updated on 3-3-2023)\n\n\n\nExhibitor Orientation Packet!\n\nExhibitor Unloading Zone Map
X-ALT-DESC;FMTTYPE=text/html:<span style="font-size:20px\;"><strong>Join us the first weekend in March at Fenton High School for the Fenton Community Expo!&nbsp\;<br />\n<br />\nThe Community Expo boasts well over 100 exhibitors\, tons of prizes\, and giveaways to be won. Local food and entertainment\, a petting zoo for animal lovers\, and a Kids Zone where the fun never stops! With completely free admission to the public\, this staple Chamber community event is still going strong after 38 years!</strong></span><br />\n<br />\n<br />\n<a href="https://chambermaster.blob.core.windows.net/userfiles/UserFiles/chambers/1362/File/2023_Expo/FR331_ExpoBooklet2023_11x17_R2.pdf"><span style="color:#006400\;"><span style="font-size:20px\;"><strong>Exhibitor Registration Information - CLICK HERE!</strong></span></span></a><br />\n<a href="https://chambermaster.blob.core.windows.net/userfiles/UserFiles/chambers/1362/File/2023_Expo/2023EXPOGUT-FinalMap.pdf"><span style="font-size:20px\;"><strong>Expo Map - Click Here!</strong></span></a><a href="https://chambermaster.blob.core.windows.net/userfiles/UserFiles/chambers/1362/File/2023_Expo/2023EXPOGUT-FinalMap.pdf">&nbsp\;</a>(updated on 3-3-2023)<br />\n<br />\n<a href="https://chambermaster.blob.core.windows.net/userfiles/UserFiles/chambers/1362/File/2023_Expo/OrientationPacket.pdf"><span style="font-size:20px\;"><strong>Exhibitor Orientation Packet!</strong></span></a><br />\n<a href="https://chambermaster.blob.core.windows.net/userfiles/UserFiles/chambers/1362/File/2023_Expo/UnloadingZone.pdf"><span style="font-size:20px\;"><strong>Exhibitor Unloading Zone Map</strong></span></a>
LOCATION:Fenton High School
UID:e.1362.499
SEQUENCE:3
DTSTAMP:20260420T044302Z
URL:https://business.fentonchamber.com/events/details/fenton-community-expo-03-04-2023-499
END:VEVENT

END:VCALENDAR
