BEGIN:VCALENDAR
VERSION:2.0
PRODID:-//ChamberMaster//Event Calendar 2.0//EN
METHOD:PUBLISH
X-PUBLISHED-TTL:P3D
REFRESH-INTERVAL:P3D
CALSCALE:GREGORIAN
BEGIN:VEVENT
DTSTART:20200520T130000Z
DTEND:20200520T140000Z
X-MICROSOFT-CDO-ALLDAYEVENT:FALSE
SUMMARY:Executive Board Meeting
DESCRIPTION:
X-ALT-DESC;FMTTYPE=text/html:
LOCATION:Virtual Meeting via Zoom.us For more information\, call 810.629.5447 x 402
UID:e.1362.1974
SEQUENCE:3
DTSTAMP:20260422T125542Z
URL:https://business.fentonchamber.com/events/details/executive-board-meeting-05-20-2020-1974
END:VEVENT

END:VCALENDAR
