BEGIN:VCALENDAR
VERSION:2.0
PRODID:-//ChamberMaster//Event Calendar 2.0//EN
METHOD:PUBLISH
X-PUBLISHED-TTL:P3D
REFRESH-INTERVAL:P3D
CALSCALE:GREGORIAN
BEGIN:VEVENT
DTSTART:20120503T173000Z
DTEND:20120503T190000Z
X-MICROSOFT-CDO-ALLDAYEVENT:FALSE
SUMMARY:Event at Sharp Funeral Homes
DESCRIPTION:Please join us for our\n\nGrief Support Meeting\n\nWednesday May 2\n\n1:30 - 3 PM\n\n\n\nOur meetings will be held in the\n\nSharp Funeral Homes Fenton Chapel Community Room\n\n1000 Silver Lake Road\, Fenton\n\nthe first Wednesday of every month\n\n1:30   3:00 PM.
X-ALT-DESC;FMTTYPE=text/html:Please join us for our<br />\nGrief Support Meeting<br />\nWednesday May 2<br />\n1:30 - 3 PM<br />\n<br />\nOur meetings will be held in the<br />\nSharp Funeral Homes Fenton Chapel Community Room<br />\n1000 Silver Lake Road\, Fenton<br />\nthe first Wednesday of every month<br />\n1:30 &ndash\; 3:00 PM.
LOCATION:Sharp Funeral Homes Fenton Chapel Community Room 1000 Silver Lake Road\, Fenton
UID:e.1362.22
SEQUENCE:3
DTSTAMP:20260425T200204Z
URL:https://business.fentonchamber.com/events/details/event-at-sharp-funeral-homes-05-03-2012-22
END:VEVENT

END:VCALENDAR
