BEGIN:VCALENDAR
VERSION:2.0
PRODID:-//ChamberMaster//Event Calendar 2.0//EN
METHOD:PUBLISH
X-PUBLISHED-TTL:P3D
REFRESH-INTERVAL:P3D
CALSCALE:GREGORIAN
BEGIN:VEVENT
DTSTART:20120422T180000Z
DTEND:20120422T210000Z
X-MICROSOFT-CDO-ALLDAYEVENT:FALSE
SUMMARY:Event at Camp Copneconic - YMCA
DESCRIPTION:Come join us for a fun-filled afternoon at YMCA Camp Copneconic! Come and meet the camp staff\, take a tour and have all of your questions answered about the many programs we offer! These days are free for the entire family. There will be a wide variety of activities available.
X-ALT-DESC;FMTTYPE=text/html:Come join us for a fun-filled afternoon at YMCA Camp Copneconic! Come and meet the camp staff\, take a tour and have all of your questions answered about the many programs we offer! These days are free for the entire family. There will be a wide variety of activities available.
LOCATION:10407 North Fenton Road\, Fenton\, Michigan 48430
UID:e.1362.34
SEQUENCE:3
DTSTAMP:20260426T035922Z
URL:https://business.fentonchamber.com/events/details/event-at-camp-copneconic-ymca-04-22-2012-34
END:VEVENT

END:VCALENDAR
