BEGIN:VCALENDAR
VERSION:2.0
PRODID:-//ChamberMaster//Event Calendar 2.0//EN
METHOD:PUBLISH
X-PUBLISHED-TTL:P3D
REFRESH-INTERVAL:P3D
CALSCALE:GREGORIAN
BEGIN:VEVENT
DTSTART:20120519T230000Z
DTEND:20120520T003000Z
X-MICROSOFT-CDO-ALLDAYEVENT:FALSE
SUMMARY:Event at Biggby Coffee - Fenton
DESCRIPTION:Live Music\n\nPerformances by Aaron Schmidt and Little Plastic Lions\n\nGrab your friends and come listen to some great local talent\n\n$1.00 off all grande/super specialty beverages during the show
X-ALT-DESC;FMTTYPE=text/html:Live Music<br />\nPerformances by Aaron Schmidt and Little Plastic Lions<br />\nGrab your friends and come listen to some great local talent<br />\n$1.00 off all grande/super specialty beverages during the show<br />\n
LOCATION:BIGGBY Coffee 235 N. Leroy (across from Fenton Hotel)
UID:e.1362.140
SEQUENCE:3
DTSTAMP:20260426T031026Z
URL:https://business.fentonchamber.com/events/details/event-at-biggby-coffee-fenton-05-19-2012-140
END:VEVENT

END:VCALENDAR
