BEGIN:VCALENDAR
VERSION:2.0
PRODID:-//ChamberMaster//Event Calendar 2.0//EN
METHOD:PUBLISH
X-PUBLISHED-TTL:P3D
REFRESH-INTERVAL:P3D
CALSCALE:GREGORIAN
BEGIN:VEVENT
DTSTART;VALUE=DATE:20120609
DTEND;VALUE=DATE:20120610
TRANSP:TRANSPARENT
X-MICROSOFT-CDO-ALLDAYEVENT:TRUE
SUMMARY:Event at Animal Health Clinic
DESCRIPTION:2nd ANNUAL PET EXPO\, FUN FOR EVERYONE WHETHER 2 LEGS OR 4. BOUNCE HOUSE\, FREE HOTDOGS AND BEVERAGES\, FREE ENTERTAINMENT\, GAMES\, MAGIC SHOW AND FACEPAINTING FOR THE KIDS\, AGILITY COURSE FOR THE DOGS\, AND ENJOY GREAT SHOPPING WITH OUR LOCAL VENDORS.
X-ALT-DESC;FMTTYPE=text/html:<p>\n	2nd ANNUAL PET EXPO\, FUN FOR EVERYONE WHETHER 2 LEGS OR 4. BOUNCE HOUSE\, FREE HOTDOGS AND BEVERAGES\, FREE ENTERTAINMENT\, GAMES\, MAGIC SHOW AND FACEPAINTING&nbsp\;FOR THE KIDS\, AGILITY COURSE FOR THE DOGS\, AND ENJOY GREAT SHOPPING WITH OUR&nbsp\;LOCAL VENDORS.</p>\n
LOCATION:1495 Dauner Rd Fenton
UID:e.1362.106
SEQUENCE:3
DTSTAMP:20260425T222856Z
URL:https://business.fentonchamber.com/events/details/event-at-animal-health-clinic-06-09-2012-106
END:VEVENT

END:VCALENDAR
