BEGIN:VCALENDAR
VERSION:2.0
PRODID:-//ChamberMaster//Event Calendar 2.0//EN
METHOD:PUBLISH
X-PUBLISHED-TTL:P3D
REFRESH-INTERVAL:P3D
CALSCALE:GREGORIAN
BEGIN:VEVENT
DTSTART:20230325T150000Z
DTEND:20230325T200000Z
X-MICROSOFT-CDO-ALLDAYEVENT:FALSE
SUMMARY:Easter Bunny Photos
DESCRIPTION:Hop on in to our Greenhouse from 11am-4pm to get photos with the Easter Bunny.
X-ALT-DESC;FMTTYPE=text/html:Hop on in to our Greenhouse from 11am-4pm to get photos with the Easter Bunny.
LOCATION:Gerych's Greenhouse 713 w Silver Lake Rd\, Fenton\, Mi 48430
UID:e.1362.9212
SEQUENCE:3
DTSTAMP:20260420T055905Z
URL:https://business.fentonchamber.com/events/details/easter-bunny-photos-9212
END:VEVENT

END:VCALENDAR
