BEGIN:VCALENDAR
VERSION:2.0
PRODID:-//ChamberMaster//Event Calendar 2.0//EN
METHOD:PUBLISH
X-PUBLISHED-TTL:P3D
REFRESH-INTERVAL:P3D
CALSCALE:GREGORIAN
BEGIN:VEVENT
DTSTART:20120421T130000Z
DTEND:20120421T160000Z
X-MICROSOFT-CDO-ALLDAYEVENT:FALSE
SUMMARY:Earth Day Cleanup 2012
DESCRIPTION:Fenton MI   Caf  of LIFE Chirorpactic - Fenton will host Earth Day Cleanup 2012 taking place at Caf  of LIFE   521 North Leroy St.\, Fenton MI on Saturday April 21st from 9am until Noon.\n\n	 \n\n	Caf  of LIFE Chiropractic - Fenton is proud to host Earth Day Cleanup 2012 in Fenton for the third year in a row. Earth Day Cleanup 2012 will give local volunteers the opportunity to walk through the streets of Fenton picking up trash as they go.  Biodegradable trash bags and gloves are available\, or volunteers may bring their own work gloves.  \n\n	 \n\n	Teams will walk through assigned areas of the city of Fenton.  Volunteers are welcome to join. Clean up volunteers are encouraged to meet at the Caf  of LIFE at 8:45am.  Volunteers with pick up trucks willing to drive designated routes picking up trash from the cleanup volunteers are needed.  If interested\, please call Angie or Erica at 810-629-6023.\n\n	 \n\n	Kids activities\, and educational pieces on how to be more earth-friendly at home will be available during the event at the Caf  of LIFE.\n\n	All ages are welcome\, children under 12 please be accompanied by a parent.  Families welcome to be their own cleanup team.\n\n	All are welcome to join the Caf  of LIFE Chiropractic   Fenton in helping give Fenton a fresh start for spring!
X-ALT-DESC;FMTTYPE=text/html:<p class="MsoNormal">\n	<b style="mso-bidi-font-weight: normal"><span style="font-size: 12pt">Fenton MI</span></b><span style="font-size: 12pt"> &ndash\; <b style="mso-bidi-font-weight: normal">Caf&eacute\; of LIFE Chirorpactic - Fenton </b>will host <b style="mso-bidi-font-weight: normal">Earth Day Cleanup 2012 </b>taking place at <b style="mso-bidi-font-weight: normal">Caf&eacute\; of LIFE &ndash\; 521 North Leroy St.\, Fenton MI</b> on <b style="mso-bidi-font-weight: normal">Saturday April 21<sup>st</sup> from 9am until Noon</b>.</span></p>\n<p class="MsoNormal">\n	<span style="font-size: 12pt">&nbsp\;</span></p>\n<p class="MsoNormal">\n	<b style="mso-bidi-font-weight: normal"><span style="font-size: 12pt">Caf&eacute\; of LIFE Chiropractic - Fenton </span></b><span style="font-size: 12pt">is proud to host <b style="mso-bidi-font-weight: normal">Earth Day Cleanup 2012</b> in Fenton for <b style="mso-bidi-font-weight: normal">the third year in a row.</b> Earth Day Cleanup 2012 will give local volunteers the opportunity to walk through the streets of Fenton picking up trash as they go.<span style="mso-spacerun: yes">&nbsp\; </span>Biodegradable trash bags and gloves are available\, or volunteers may bring their own work gloves.<span style="mso-spacerun: yes">&nbsp\; </span></span></p>\n<p class="MsoNormal">\n	<span style="font-size: 12pt">&nbsp\;</span></p>\n<p class="MsoNormal">\n	<span style="font-size: 12pt">Teams will walk through assigned areas of the city of Fenton.<span style="mso-spacerun: yes">&nbsp\; </span>Volunteers are welcome to join. Clean up volunteers are encouraged to meet at the Caf&eacute\; of LIFE at 8:45am.<span style="mso-spacerun: yes">&nbsp\; </span>Volunteers with pick up trucks willing to drive designated routes picking up trash from the cleanup volunteers are needed.<span style="mso-spacerun: yes">&nbsp\; </span>If interested\, please call Angie or Erica at 810-629-6023.</span></p>\n<p class="MsoNormal">\n	<span style="font-size: 12pt">&nbsp\;</span></p>\n<p class="MsoNormal">\n	<span style="font-size: 12pt">Kids activities\, and educational pieces on how to be more earth-friendly at home will be available during the event at the Caf&eacute\; of LIFE.</span></p>\n<p class="MsoNormal">\n	<span style="font-size: 12pt">All ages are welcome\, children under 12 please be accompanied by a parent.<span style="mso-spacerun: yes">&nbsp\; </span>Families welcome to be their own cleanup team.</span></p>\n<p class="MsoNormal">\n	<span style="font-size: 12pt">All are welcome to join the Caf&eacute\; of LIFE Chiropractic &ndash\; Fenton in helping give Fenton a fresh start for spring! </span></p>\n
LOCATION:Cafe of LIFE Chiropractic - Fenton 521 N. Leroy St. Fenton MI 48430
UID:e.1362.9
SEQUENCE:3
DTSTAMP:20260425T200112Z
URL:https://business.fentonchamber.com/events/details/earth-day-cleanup-2012-04-21-2012-9
END:VEVENT

END:VCALENDAR
