BEGIN:VCALENDAR
VERSION:2.0
PRODID:-//ChamberMaster//Event Calendar 2.0//EN
METHOD:PUBLISH
X-PUBLISHED-TTL:P3D
REFRESH-INTERVAL:P3D
CALSCALE:GREGORIAN
BEGIN:VEVENT
DTSTART:20120524T230000Z
DTEND:20120525T010000Z
X-MICROSOFT-CDO-ALLDAYEVENT:FALSE
SUMMARY:Drop the Belly Fat Quickly\, Easily\, Safely
DESCRIPTION:Control and maintain a healthy lifestyle\, with weight and sleep balance\, come learn more about it Thursday 24th 7pm at Gatsby Grind\, with Celebrity appearance from TV Reality Show Biggest Looser\, Cassandra Struos\, sharing her experience with us.
X-ALT-DESC;FMTTYPE=text/html:Control and maintain a healthy lifestyle\, with weight and sleep balance\, come learn more about it Thursday 24th 7pm at Gatsby Grind\, with Celebrity appearance from TV Reality Show Biggest Looser\, Cassandra Struos\, sharing her experience with us.
LOCATION:Gatsby Grind
UID:e.1362.146
SEQUENCE:3
DTSTAMP:20260426T022833Z
URL:https://business.fentonchamber.com/events/details/drop-the-belly-fat-quickly-easily-safely-05-24-2012-146
END:VEVENT

END:VCALENDAR
