BEGIN:VCALENDAR
VERSION:2.0
PRODID:-//ChamberMaster//Event Calendar 2.0//EN
METHOD:PUBLISH
X-PUBLISHED-TTL:P3D
REFRESH-INTERVAL:P3D
CALSCALE:GREGORIAN
BEGIN:VEVENT
DTSTART:20221105T140000Z
DTEND:20221105T180000Z
X-MICROSOFT-CDO-ALLDAYEVENT:FALSE
SUMMARY:Dr. Wax Orthodontics Lace Up for Learning
DESCRIPTION:Enjoy a morning walk\, jog or run on a Linden trail to raise money for our schools.
X-ALT-DESC;FMTTYPE=text/html:Enjoy a morning walk\, jog or run on a Linden trail to raise money for our schools.
LOCATION:Deer Run Soccer Park (start and finish)
UID:e.1362.8706
SEQUENCE:3
DTSTAMP:20260420T150855Z
URL:https://business.fentonchamber.com/events/details/dr-wax-orthodontics-lace-up-for-learning-8706
END:VEVENT

END:VCALENDAR
