BEGIN:VCALENDAR
VERSION:2.0
PRODID:-//ChamberMaster//Event Calendar 2.0//EN
METHOD:PUBLISH
X-PUBLISHED-TTL:P3D
REFRESH-INTERVAL:P3D
CALSCALE:GREGORIAN
BEGIN:VEVENT
DTSTART:20121101T200000Z
DTEND:20121101T230000Z
X-MICROSOFT-CDO-ALLDAYEVENT:FALSE
SUMMARY:Dr. McGarry's Halloween Candy BuyBack
DESCRIPTION:Dr. Patricia McGarry is having her annual Halloween Candy BuyBack.  Dr. McGarry will pay $1.00 a pound for unwanted Halloween treats. Then she send these treats to our servicemen and women overseas.  Please join us for our party on November 1st\, 2012 from 4-7pm.  We will have games and prizes.  For more information please call our office at 810-735-9426
X-ALT-DESC;FMTTYPE=text/html:Dr. Patricia McGarry is having her annual Halloween Candy BuyBack.&nbsp\; Dr. McGarry will pay $1.00 a pound for unwanted Halloween treats.&nbsp\;Then she send these treats&nbsp\;to our servicemen and women overseas.&nbsp\; Please join us for our party on November 1st\, 2012 from 4-7pm.&nbsp\; We will have games and prizes.&nbsp\; For more information please call our office at 810-735-9426
LOCATION:200 Lindenwood Dr Linden\, MI 48451
UID:e.1362.186
SEQUENCE:3
DTSTAMP:20260426T025625Z
URL:https://business.fentonchamber.com/events/details/dr-mcgarry-s-halloween-candy-buyback-11-01-2012-186
END:VEVENT

END:VCALENDAR
