BEGIN:VCALENDAR
VERSION:2.0
PRODID:-//ChamberMaster//Event Calendar 2.0//EN
METHOD:PUBLISH
X-PUBLISHED-TTL:P3D
REFRESH-INTERVAL:P3D
CALSCALE:GREGORIAN
BEGIN:VEVENT
DTSTART:20150709T210000Z
DTEND:20150710T000000Z
X-MICROSOFT-CDO-ALLDAYEVENT:FALSE
SUMMARY:Delivering Hope Fundraiser at Leo's Coney Island
DESCRIPTION:Help feed a hungry child today at Leo's Coney Island in Fenton from 5-8pm. Delivering Hope is holding a fundraiser at Leo's to help fund a weekend food assistance program for hungry children in the Fenton schools. Balloon artist and face painting will also be onsite. Hope to see you there!
X-ALT-DESC;FMTTYPE=text/html:Help feed a hungry child today at Leo&#39\;s Coney Island in Fenton from 5-8pm. Delivering Hope is holding a fundraiser at Leo&#39\;s to help fund a weekend food assistance program for hungry children in the Fenton schools.&nbsp\;Balloon artist and face painting will also be onsite. Hope to see you there!<br />\n&nbsp\;
LOCATION:Leo's Coney Island 15010 Silver Pkwy\, Fenton
UID:e.1362.3065
SEQUENCE:3
DTSTAMP:20260426T003922Z
URL:https://business.fentonchamber.com/events/details/delivering-hope-fundraiser-at-leo-s-coney-island-07-09-2015-3065
END:VEVENT

END:VCALENDAR
