BEGIN:VCALENDAR
VERSION:2.0
PRODID:-//ChamberMaster//Event Calendar 2.0//EN
METHOD:PUBLISH
X-PUBLISHED-TTL:P3D
REFRESH-INTERVAL:P3D
CALSCALE:GREGORIAN
BEGIN:VEVENT
DTSTART:20150808T190000Z
DTEND:20150809T000000Z
X-MICROSOFT-CDO-ALLDAYEVENT:FALSE
SUMMARY:Culver's National Frozen Custard Day Family Fun Fair
DESCRIPTION:Join us on August 8th from 3-8pm to celebrate National Frozen Custard day with a FREE Family Fun Fair. There will be carnival games\, a bounce slide\, face painting\, door prizes\, raffles\, and great food! Overflow parking will be located next to Culver's at Client Financial Services
X-ALT-DESC;FMTTYPE=text/html:Join us on August 8th from 3-8pm to celebrate National Frozen Custard day with a FREE Family Fun Fair. There will be carnival games\, a bounce slide\, face painting\, door prizes\, raffles\, and great food! Overflow parking will be located next to Culver&#39\;s at Client Financial Services
LOCATION:3202 Owen Road
UID:e.1362.3066
SEQUENCE:3
DTSTAMP:20260426T004045Z
URL:https://business.fentonchamber.com/events/details/culver-s-national-frozen-custard-day-family-fun-fair-08-08-2015-3066
END:VEVENT

END:VCALENDAR
