BEGIN:VCALENDAR
VERSION:2.0
PRODID:-//ChamberMaster//Event Calendar 2.0//EN
METHOD:PUBLISH
X-PUBLISHED-TTL:P3D
REFRESH-INTERVAL:P3D
CALSCALE:GREGORIAN
BEGIN:VEVENT
DTSTART:20230919T193000Z
DTEND:20230919T223000Z
X-MICROSOFT-CDO-ALLDAYEVENT:FALSE
SUMMARY:Chamber Open House 2023
DESCRIPTION:An Open House to explore how the Chamber can benefit your business. \n\nAttend the Open House and have your name put into a drawing to win one-year free membership!\n\n\n\n\n\nStop by any time between 3:30 pm - 6:30 pm. We will walk you through our Chamber Building and familiarize you with the benefits of being a Chamber member. In addition\, we'll give you information on Committees you may be interested in and other ways to maximize your membership. Plus\, one lucky winner will receive a one-year membership for free! Get your name in the drawing!\n\nRSVP is not necessary\, but if you would like us to set aside time just for you\, let us know and we would be happy to accommodate!\n\nIf you have any questions\, please give us a call at 810.629.5447
X-ALT-DESC;FMTTYPE=text/html:An Open House to explore how the Chamber can benefit your business.&nbsp\;<br />\nAttend the Open House and have your name put into a drawing to win one-year free membership!<br />\n<br />\n<br style="caret-color: rgb(0\, 0\, 0)\; color: rgb(0\, 0\, 0)\; font-family: Helvetica\; font-size: 18px\; text-size-adjust: auto\;" />\n<span style="font-size:12px\;"><span style="caret-color: rgb(0\, 0\, 0)\; color: rgb(0\, 0\, 0)\; font-family: Helvetica\; text-size-adjust: auto\;">Stop by any time between 3:30 pm - 6:30 pm. We will walk you through our Chamber Building and familiarize you with the benefits of being</span><span style="caret-color: rgb(0\, 0\, 0)\; color: rgb(0\, 0\, 0)\; font-family: Helvetica\; text-size-adjust: auto\;">&nbsp\;</span><span style="caret-color: rgb(0\, 0\, 0)\; color: rgb(0\, 0\, 0)\; font-family: Helvetica\; text-size-adjust: auto\;">a Chamber member. In addition\, we&#39\;ll give you information on Committees you may be interested in and other ways to maximize your</span><span style="caret-color: rgb(0\, 0\, 0)\; color: rgb(0\, 0\, 0)\; font-family: Helvetica\; text-size-adjust: auto\;">&nbsp\;</span><span style="caret-color: rgb(0\, 0\, 0)\; color: rgb(0\, 0\, 0)\; font-family: Helvetica\; text-size-adjust: auto\;">membership. Plus\, one lucky winner will receive a one-year membership for free! Get your name in the drawing!</span><br style="caret-color: rgb(0\, 0\, 0)\; color: rgb(0\, 0\, 0)\; font-family: Helvetica\; font-size: 18px\; text-size-adjust: auto\;" />\n<span style="caret-color: rgb(0\, 0\, 0)\; color: rgb(0\, 0\, 0)\; font-family: Helvetica\; text-size-adjust: auto\;">RSVP is not necessary\, but if you would like us to set aside time just for you\, let us know and we would be happy to accommodate!</span><br style="caret-color: rgb(0\, 0\, 0)\; color: rgb(0\, 0\, 0)\; font-family: Helvetica\; font-size: 18px\; text-size-adjust: auto\;" />\n<span style="caret-color: rgb(0\, 0\, 0)\; color: rgb(0\, 0\, 0)\; font-family: Helvetica\; text-size-adjust: auto\;">If you have any questions\, please give us a call at 810.629.5447</span></span>
LOCATION:104 S Adelaide St Fenton MI 48430
UID:e.1362.9276
SEQUENCE:3
DTSTAMP:20260422T113704Z
URL:https://business.fentonchamber.com/events/details/chamber-open-house-2023-9276
END:VEVENT

END:VCALENDAR
