BEGIN:VCALENDAR
VERSION:2.0
PRODID:-//ChamberMaster//Event Calendar 2.0//EN
METHOD:PUBLISH
X-PUBLISHED-TTL:P3D
REFRESH-INTERVAL:P3D
CALSCALE:GREGORIAN
BEGIN:VEVENT
DTSTART:20231102T123000Z
DTEND:20231102T140000Z
X-MICROSOFT-CDO-ALLDAYEVENT:FALSE
SUMMARY:Chamber Matters! Member Orientation Matters
DESCRIPTION:This Member Orientation is open to all Member Representatives of the Fenton & Linden Regional Chamber of Commerce.\n\nJoin us to learn how to get the most out of your membership!
X-ALT-DESC;FMTTYPE=text/html:This Member Orientation is open to all Member Representatives of the Fenton &amp\; Linden Regional Chamber of Commerce.<br />\nJoin us to learn how to get the most out of your membership!
LOCATION:Spring Meadows Country Club 1129 Ripley Rd. Linden MI 48451
UID:e.1362.9300
SEQUENCE:3
DTSTAMP:20260422T095942Z
URL:https://business.fentonchamber.com/events/details/chamber-matters-member-orientation-matters-9300
END:VEVENT

END:VCALENDAR
