BEGIN:VCALENDAR
VERSION:2.0
PRODID:-//ChamberMaster//Event Calendar 2.0//EN
METHOD:PUBLISH
X-PUBLISHED-TTL:P3D
REFRESH-INTERVAL:P3D
CALSCALE:GREGORIAN
BEGIN:VEVENT
DTSTART:20231006T140000Z
DTEND:20231006T150000Z
X-MICROSOFT-CDO-ALLDAYEVENT:FALSE
SUMMARY:Chamber Celebration Committee 2023
DESCRIPTION:
X-ALT-DESC;FMTTYPE=text/html:
LOCATION:
UID:e.1362.9307
SEQUENCE:3
DTSTAMP:20260422T103400Z
URL:https://business.fentonchamber.com/events/details/chamber-celebration-committee-2023-9307
END:VEVENT

END:VCALENDAR
