BEGIN:VCALENDAR
VERSION:2.0
PRODID:-//ChamberMaster//Event Calendar 2.0//EN
METHOD:PUBLISH
X-PUBLISHED-TTL:P3D
REFRESH-INTERVAL:P3D
CALSCALE:GREGORIAN
BEGIN:VEVENT
DTSTART:20140307T200000Z
DTEND:20140307T230000Z
X-MICROSOFT-CDO-ALLDAYEVENT:FALSE
SUMMARY:Caretel Inns of Linden Open House
DESCRIPTION:Open to the public.
X-ALT-DESC;FMTTYPE=text/html:Open to the public.
LOCATION:Caretel Inns of Linden 202 S.Bridge St Linden\, MI 48451
UID:e.1362.1468
SEQUENCE:3
DTSTAMP:20260420T155955Z
URL:https://business.fentonchamber.com/events/details/caretel-inns-of-linden-open-house-03-07-2014-1468
END:VEVENT

END:VCALENDAR
