BEGIN:VCALENDAR
VERSION:2.0
PRODID:-//ChamberMaster//Event Calendar 2.0//EN
METHOD:PUBLISH
X-PUBLISHED-TTL:P3D
REFRESH-INTERVAL:P3D
CALSCALE:GREGORIAN
BEGIN:VEVENT
DTSTART:20200514T120000Z
DTEND:20200514T130000Z
X-MICROSOFT-CDO-ALLDAYEVENT:FALSE
SUMMARY:Career Connections Meeting
DESCRIPTION:Temporarily Cancelled Due to Stay Home - Stay Safe Executive Order
X-ALT-DESC;FMTTYPE=text/html:Temporarily Cancelled Due to Stay Home - Stay Safe Executive Order
LOCATION:The Chamber Office 104 S.Adelaide St.
UID:e.1362.820
SEQUENCE:3
DTSTAMP:20260423T102525Z
URL:https://business.fentonchamber.com/events/details/career-connections-meeting-05-14-2020-820
END:VEVENT

END:VCALENDAR
