BEGIN:VCALENDAR
VERSION:2.0
PRODID:-//ChamberMaster//Event Calendar 2.0//EN
METHOD:PUBLISH
X-PUBLISHED-TTL:P3D
REFRESH-INTERVAL:P3D
CALSCALE:GREGORIAN
BEGIN:VEVENT
DTSTART:20231020T120000Z
DTEND:20231020T130000Z
X-MICROSOFT-CDO-ALLDAYEVENT:FALSE
SUMMARY:Career Connections Committee
DESCRIPTION:
X-ALT-DESC;FMTTYPE=text/html:
LOCATION:Chamber Boardroom and virtually via Zoom
UID:e.1362.9319
SEQUENCE:3
DTSTAMP:20260422T103503Z
URL:https://business.fentonchamber.com/events/details/career-connections-committee-9319
END:VEVENT

END:VCALENDAR
