BEGIN:VCALENDAR
VERSION:2.0
PRODID:-//ChamberMaster//Event Calendar 2.0//EN
METHOD:PUBLISH
X-PUBLISHED-TTL:P3D
REFRESH-INTERVAL:P3D
CALSCALE:GREGORIAN
BEGIN:VEVENT
DTSTART:20230119T140000Z
DTEND:20230119T150000Z
X-MICROSOFT-CDO-ALLDAYEVENT:FALSE
SUMMARY:Career Connections Committee
DESCRIPTION:Career Connections Committee
X-ALT-DESC;FMTTYPE=text/html:Career Connections Committee
LOCATION:Chamber Office - Lower Boardroom 104 S Adelaide Fenton
UID:e.1362.8711
SEQUENCE:3
DTSTAMP:20260420T171550Z
URL:https://business.fentonchamber.com/events/details/career-connections-committee-8711
END:VEVENT

END:VCALENDAR
