BEGIN:VCALENDAR
VERSION:2.0
PRODID:-//ChamberMaster//Event Calendar 2.0//EN
METHOD:PUBLISH
X-PUBLISHED-TTL:P3D
REFRESH-INTERVAL:P3D
CALSCALE:GREGORIAN
BEGIN:VEVENT
DTSTART:20221117T140000Z
DTEND:20221117T150000Z
X-MICROSOFT-CDO-ALLDAYEVENT:FALSE
SUMMARY:Career Connections Committee
DESCRIPTION:
X-ALT-DESC;FMTTYPE=text/html:
LOCATION:Chamber Boardroom and virtually via Zoom
UID:e.1362.1022
SEQUENCE:3
DTSTAMP:20260420T140047Z
URL:https://business.fentonchamber.com/events/details/career-connections-committee-1022
END:VEVENT

END:VCALENDAR
