BEGIN:VCALENDAR
VERSION:2.0
PRODID:-//ChamberMaster//Event Calendar 2.0//EN
METHOD:PUBLISH
X-PUBLISHED-TTL:P3D
REFRESH-INTERVAL:P3D
CALSCALE:GREGORIAN
BEGIN:VEVENT
DTSTART:20150716T190000Z
DTEND:20150717T000000Z
X-MICROSOFT-CDO-ALLDAYEVENT:FALSE
SUMMARY:Canever Car Show
DESCRIPTION:All classic cars\, hot rods and antique automobiles are welcome at the Canever Car Show. Participants will have the ability to show their vehicle while enjoying other unique vintage automobiles. Free hot dogs\, pop and popcorn is available\, along with on-site contests for great prizes such as oil changes and a chance to drive a Volt for the weekend! The Fox 103.9 FM will be on-site with a live radio remote and music. Vic Canever Chevrolet is hosting a car show\, this Thursday from 3-8 p.m. The car show is held on the dealership grounds\, located at 3000 Owen Road in Fenton. Rain date will be the fourth Thursday of the month. An additional car show will take place in connection with the Fenton Back to the Bricks event on August 6\, 2015\, from 3-8 p.m.
X-ALT-DESC;FMTTYPE=text/html:All classic cars\, hot rods and antique automobiles are welcome at the Canever Car Show. Participants will have the ability to show their vehicle while enjoying other unique vintage automobiles. Free hot dogs\, pop and popcorn is available\, along with on-site contests for great prizes such as oil changes and a chance to drive a Volt for the weekend! The Fox 103.9 FM will be on-site with a live radio remote and music. Vic Canever Chevrolet is hosting a car show\, this Thursday from 3-8 p.m. The car show is held on the dealership grounds\, located at 3000 Owen Road in Fenton. Rain date will be the fourth Thursday of the month. An additional car show will take place in connection with the Fenton Back to the Bricks event on August 6\, 2015\, from 3-8 p.m.
LOCATION:Vic Canever Chevrolet - 3000 Owen Rd.\, Fenton
UID:e.1362.3063
SEQUENCE:3
DTSTAMP:20260422T235219Z
URL:https://business.fentonchamber.com/events/details/canever-car-show-07-16-2015-3063
END:VEVENT

END:VCALENDAR
