BEGIN:VCALENDAR
VERSION:2.0
PRODID:-//ChamberMaster//Event Calendar 2.0//EN
METHOD:PUBLISH
X-PUBLISHED-TTL:P3D
REFRESH-INTERVAL:P3D
CALSCALE:GREGORIAN
BEGIN:VEVENT
DTSTART:20230317T140000Z
DTEND:20230318T220000Z
X-MICROSOFT-CDO-ALLDAYEVENT:FALSE
SUMMARY:Boutique Crawl
DESCRIPTION:Join us for our very first BOUTIQUE CRAWL stretching across FENTON\, HARTLAND and HOWELL. Visit 9 or more of your favorite boutiques between the two days and enter to WIN $800 IN GIFT CARDS! What a fun way to celebrate St Patrick's Day weekend! Sips! Sales! New Spring inventory and so much more
X-ALT-DESC;FMTTYPE=text/html:Join us for our very first BOUTIQUE CRAWL stretching across FENTON\, HARTLAND and HOWELL. Visit 9 or more of your favorite boutiques between the two days and enter to WIN $800 IN GIFT CARDS! What a fun way to celebrate St Patrick&#39\;s Day weekend! Sips! Sales! New Spring inventory and so much more
LOCATION:Gerych's Greenhouse Allure Salon Avenue 19 Bridgestreet Exchange Eclections Northern Country Chic Seasons On Leroy Pipsqueak Boutique
UID:e.1362.9211
SEQUENCE:3
DTSTAMP:20260420T043948Z
URL:https://business.fentonchamber.com/events/details/boutique-crawl-9211
END:VEVENT

END:VCALENDAR
