BEGIN:VCALENDAR
VERSION:2.0
PRODID:-//ChamberMaster//Event Calendar 2.0//EN
METHOD:PUBLISH
X-PUBLISHED-TTL:P3D
REFRESH-INTERVAL:P3D
CALSCALE:GREGORIAN
BEGIN:VEVENT
DTSTART:20230908T160000Z
DTEND:20230910T170000Z
X-MICROSOFT-CDO-ALLDAYEVENT:FALSE
SUMMARY:Bottle/Can Returnables Collection
DESCRIPTION:Have bottles/cans at home or business you don't want to deal with?  Bottle/Can Collection held first weekend of each month to raise funds for the Ladies Auxiliary and Knights of Columbus groups at St John the Evangelist Church\, 600 North Adelaide\, Fenton MI.  Trailer parked in lot at SE corner of church from 12pm Friday\, Sept 8th until 1pm Sunday\, Sept 10th.  Come by and drop-off any time or our volunteers will be present to personally accept your donation 8am to 12:30pm Sunday.  Proceeds go to fund Council 7418 donations to many activities benefiting local community members/groups.
X-ALT-DESC;FMTTYPE=text/html:Have bottles/cans at home or business you don&#39\;t want to deal with?&nbsp\; Bottle/Can Collection held first weekend of each month to raise funds for the Ladies Auxiliary and Knights of Columbus groups at St John the Evangelist Church\, 600 North Adelaide\, Fenton MI.&nbsp\; Trailer parked in lot at SE corner of church from 12pm Friday\, Sept 8th until 1pm Sunday\, Sept 10th.&nbsp\; Come by and drop-off any time or our volunteers will be present to personally accept your donation 8am to 12:30pm Sunday.&nbsp\; Proceeds go to fund Council 7418 donations to many activities benefiting&nbsp\;local community members/groups.&nbsp\;
LOCATION:St John the Evangelist Church\, 600 North Adelaide\, Fenton\, MI 48430 Trailer in parking lot at SE corner of church.
UID:e.1362.9279
SEQUENCE:3
DTSTAMP:20260419T205145Z
URL:https://business.fentonchamber.com/events/details/bottle-can-returnables-collection-09-08-2023-9279
END:VEVENT

END:VCALENDAR
