BEGIN:VCALENDAR
VERSION:2.0
PRODID:-//ChamberMaster//Event Calendar 2.0//EN
METHOD:PUBLISH
X-PUBLISHED-TTL:P3D
REFRESH-INTERVAL:P3D
CALSCALE:GREGORIAN
BEGIN:VEVENT
DTSTART:20220920T193000Z
DTEND:20220920T223000Z
X-MICROSOFT-CDO-ALLDAYEVENT:FALSE
SUMMARY:Annual Chamber Open House 2022
DESCRIPTION:Discover the benefits of your Chamber Membership and involvement opportunities!\n\n- Learn about our committees\n\n- Network with fellow chamber members\n\n\n\nAll attendees will be entered into a drawing for a FREE year of membership!\n\n\n\nPLUS - Bring potential new members. If they join by October 31\, 2022\, their application fee is waived\, and YOU get 10% off of your 2023 membership investment for each new member you refer!\n\n\n\n Hors d'oeuvres and beverages will be provided!
X-ALT-DESC;FMTTYPE=text/html:Discover the benefits of your Chamber Membership and involvement opportunities!<br />\n- Learn about our committees<br />\n- Network with fellow chamber members<br />\n<br />\nAll attendees will be entered into a drawing for a <em><strong>FREE </strong></em>year of membership!<br />\n<br />\n<em><strong>PLUS </strong></em>- Bring potential new members. If they join by October 31\, 2022\, their application fee is waived\, and YOU get 10% off of your 2023 membership investment for each new member you refer!<br />\n<br />\n&nbsp\;Hors d&#39\;oeuvres and beverages will be provided!&nbsp\;&nbsp\;&nbsp\;&nbsp\;&nbsp\;&nbsp\;&nbsp\;&nbsp\;&nbsp\;&nbsp\;<br />\n<br />\n&nbsp\;&nbsp\;&nbsp\;&nbsp\;&nbsp\;&nbsp\;&nbsp\;&nbsp\;&nbsp\;&nbsp\;&nbsp\;&nbsp\;&nbsp\;&nbsp\;&nbsp\;&nbsp\;&nbsp\;&nbsp\;&nbsp\;&nbsp\;&nbsp\;&nbsp\;&nbsp\;&nbsp\;&nbsp\;&nbsp\;&nbsp\;&nbsp\;&nbsp\;&nbsp\;&nbsp\;&nbsp\;&nbsp\;&nbsp\;&nbsp\;&nbsp\;&nbsp\;&nbsp\;&nbsp\;&nbsp\;&nbsp\;&nbsp\;&nbsp\;&nbsp\;&nbsp\;&nbsp\;&nbsp\;&nbsp\;&nbsp\;&nbsp\;&nbsp\;&nbsp\;&nbsp\;
LOCATION:Fenton & Linden Regional Chamber of Commerce Office 104 S Adelaide St Fenton (810) 629.5447
UID:e.1362.8956
SEQUENCE:3
DTSTAMP:20260420T134215Z
URL:https://business.fentonchamber.com/events/details/annual-chamber-open-house-2022-8956
END:VEVENT

END:VCALENDAR
