BEGIN:VCALENDAR
VERSION:2.0
PRODID:-//ChamberMaster//Event Calendar 2.0//EN
METHOD:PUBLISH
X-PUBLISHED-TTL:P3D
REFRESH-INTERVAL:P3D
CALSCALE:GREGORIAN
BEGIN:VEVENT
DTSTART:20231031T170000Z
DTEND:20231031T220000Z
X-MICROSOFT-CDO-ALLDAYEVENT:FALSE
SUMMARY:An Event So Good It's Scary 2023
DESCRIPTION:Be a part of this fun Halloween tradition!  \n\nEnjoy SAFE & FUN trick-or-treating at participating local businesses.\n\nRain or shine!  \n\n\n\nLook for the pumpkin signs.  Visit these local hospitality points:  \n\n\n\nDowntown Fenton\n\nAcorn Wealth Advisors - 405 S. Leroy St.\n\nBrad Hoffman Insurance Agency - 102 S. Leroy St.\n\nCafe of Life Chiropractic at Peabody Center for Well-Being - 202 W. Shiawassee\, Ste. 100\n\nCity of Fenton - 301 S. Leroy St.\n\nColdwell Banker Professionals - 111 S. Leroy St.\, Ste. 4\n\nCrust - a baking company - 104 W. Caroline St.\n\nFenton Fire Department - 205 E. Caroline St. \n\nFenton's Open Book - 105 W. Shiawassee\n\nFenton United Methodist Church - 119 S. Leroy St.\n\nIris Eyecare - 403 S. Leroy St.\n\nKeller Williams First-Fenton - 132 N. Leroy St.\n\nMillpond Manor - 201 E. Elizabeth St.\n\nPresence to Pupils LLC\, Ste. 112 - 202 W. Shiawassee Ave.\n\nSawyer Jewelers - 134 N. Leroy St.\, Ste. 1\n\nSeasons on Leroy - 111 S. Leroy St.\, Ste. 2\n\nTemrowski Family Funeral Home - 500 Main St. \n\nThe Horizon Group of Raymond James - 102 W. Silver Lake Rd.\n\nThe State Bank - 175 N. Leroy St.\n\n\n\nFenton Community & Cultural Center\n\nBlue Line Detailing - 150 S. Leroy St.\n\nCharter Senior Living of Linden - 150 S. Leroy St.\n\nFenton Eagles-Ladies Auxiliary - 150 S. Leroy St.\n\nLegacy Realty Professionals - 150 S. Leroy St.\n\nLewis & Knopf CPA's\, PC - 150 S. Leroy St.\n\nPB & J Travel - 150 S. Leroy St.\n\nSouthern Lakes Park & Recreation - 150 S. Leroy St.\n\nThe Brokerage Real Estate Enthusiasts - 150 S. Leroy St.\n\n\n\nSouth Adelaide Street\n\nFenton & Linden Regional Chamber of Commerce - 104 S. Adelaide St. \n\n\n\nNorth Leroy Street / North Fenton Road\n\nBeale St. Smokehouse BBQ - 1492 N. Leroy St.\n\nDouglas Water Conditioning - 1000 N. Leroy St.\n\nFast Eddie's Car Care - 1161 N. Leroy St. \n\nHalo Burger - 1355 N. Fenton Rd.\n\nHOTWORX\, Fenton - 235 N. Leroy St.\, Ste. E\n\nHungry Howie's - 1003 N. Leroy St.\n\nJet's Pizza - 235 N. Leroy St.\n\nT & B Custom Gifts - 14286 Fenton Rd.\n\nRevIVe & Restore IV Hydration - 1535 N. Leroy St.\, Ste. D\n\n\n\nOwen Road\n\n2941 Mediterranean Street Food - 3409 Owen Rd.\, Ste. 500\n\nAthletico Physical Therapy - 3401 Owen Rd.\, Ste. 400\n\nLasco Ford - 2525 Owen Rd.\n\nRandy Wise Automotive Team - 2530 Owen Rd.\n\nVic Canever Chevrolet - 3000 Owen Rd.\n\nVicinia Gardens of Fenton\, The Independent - 4016 Vicinia Way\n\n\n\nIndustrial Park\n\nProvision Living at Fenton - 440 N. Fenway Drive\n\nVic Bond Sales - 227 Industrial Way\n\n\n\nSilver Lake Road\n\nGerych's Flowers & Gifts - 713 Silver Lake Rd.\n\nKaydan Wealth Management - 329 W. Silver Lake Rd.\n\nRe/Max Platinum - 3295 W. Silver Lake Rd.\n\nThe Brand Real Estate - 3309 W. Silver Lake Rd.\n\nVibe Well - 495 N. Fenway Dr.\, Ste. 2\n\n\n\nSilver Parkway\n\nA Joyful Noise Music Studio - 17045 Silver Parkway\n\nBeauchamp Water Treatment & Solutions - 19005 Silver Parkway\, Ste. A\n\nCislo Insurance Partners @ Cislo Title - 17440 Silver Parkway\n\nFinancial Plus Credit Union - 15125 Silver Parkway\n\nGenisys Credit Union - 15405 Silver Parkway\n\nLaFontaine Chrysler\, Jeep\, Dodge Ram of Fenton - 16555 Silver Parkway\n\nTexas Roadhouse - 18555 Silver Parkway\n\nThe Paint Centers-Fenton - 17095 Silver Parkway\n\nThe UPS Store - 17195 Silver Parkway\n\nThe Vitamin Shoppe - 19005 Silver Parkway\, Ste. B/C\n\n\n\nTorrey Rd.\n\nPeabody Insurance Agency - 1190 Torrey Rd.\n\n\n\nLinden\n\nBeloved Books - 208 N. Bridge St.\n\nBlue Line Detailing - MOVED TO THE FENTON COMMUNITY CENTER!\n\nCollection on Bridge St. - 208 N. Bridge St. \n\nDr. Wax Orthodontics - 120 N. Bridge St.\, Ste. C\n\nLinden Family Eye Care - 123 E. Broad St.\n\nLinden Hotel - 122 E. Broad St.\n\nPositively Pediatrics - 120 N. Bridge St.\, Ste. D\n\nRachor Financial - 120 N. Bridge St. Ste. A\n\nSerendipity Spa of Linden - 129 E. Broad St.\n\nSunset Corals - 109 N. Bridge St.
X-ALT-DESC;FMTTYPE=text/html:<span style="font-size:18px\;"><span style="font-family:verdana\;"><strong>Be a part of this <span style="color:#FF8C00\;">fun</span>&nbsp\;<span style="color:#FF8C00\;">Halloween tradition!&nbsp\;&nbsp\;</span><br />\n<span style="color:#008000\;"><span style="font-size:16px\;">Enjoy SAFE &amp\; FUN trick-or-treating at participating local businesses.</span></span><br />\n<span style="font-size:16px\;">Rain or shine!&nbsp\;&nbsp\;</span></strong></span></span><br />\n<br />\n<strong><span style="color:#4B0082\;"><span style="font-size:16px\;"><span style="font-family:arial\;">Look for the pumpkin signs.&nbsp\; Visit these local hospitality points:&nbsp\;&nbsp\;</span></span></span></strong><br />\n<br />\n<strong><span style="color:#FF8C00\;"><span style="font-size:14px\;"><u>Downtown Fenton</u></span></span></strong><br />\n<span style="font-size:14px\;">Acorn Wealth Advisors - 405 S. Leroy St.<br />\nBrad Hoffman Insurance Agency - 102 S. Leroy St.<br />\nCafe of Life Chiropractic at Peabody Center for Well-Being - 202 W. Shiawassee\, Ste. 100<br />\nCity of Fenton - 301 S. Leroy St.<br />\nColdwell Banker Professionals - 111 S. Leroy St.\, Ste. 4<br />\nCrust - a baking company - 104 W. Caroline St.<br />\nFenton Fire Department - 205 E. Caroline St.&nbsp\;<br />\nFenton&#39\;s Open Book - 105 W. Shiawassee<br />\nFenton United Methodist Church - 119 S. Leroy St.<br />\nIris Eyecare - 403 S. Leroy St.<br />\nKeller Williams First-Fenton - 132 N. Leroy St.<br />\nMillpond Manor - 201 E. Elizabeth St.<br />\nPresence to Pupils LLC\, Ste. 112 - 202 W. Shiawassee Ave.<br />\nSawyer Jewelers - 134 N. Leroy St.\, Ste. 1<br />\nSeasons on Leroy - 111 S. Leroy St.\, Ste. 2<br />\nTemrowski Family Funeral Home - 500 Main St.&nbsp\;<br />\nThe Horizon Group of Raymond James - 102 W. Silver Lake Rd.<br />\nThe State Bank - 175 N. Leroy St.</span><br />\n<br />\n<span style="font-size:14px\;"><span style="color:#FF8C00\;"><u><strong>Fenton Community &amp\; Cultural Center</strong></u></span><br />\nBlue Line Detailing - 150 S. Leroy St.<br />\nCharter Senior Living of Linden - 150 S. Leroy St.<br />\nFenton Eagles-Ladies Auxiliary - 150 S. Leroy St.<br />\nLegacy Realty Professionals - 150 S. Leroy St.<br />\nLewis &amp\; Knopf CPA&#39\;s\, PC - 150 S. Leroy St.<br />\nPB &amp\; J Travel - 150 S. Leroy St.<br />\nSouthern Lakes Park &amp\; Recreation - 150 S. Leroy St.<br />\nThe Brokerage Real Estate Enthusiasts - 150 S. Leroy St.<br />\n<br />\n<span style="color:#FF8C00\;"><u><strong>South Adelaide Street</strong></u></span><br />\nFenton &amp\; Linden Regional Chamber of Commerce - 104 S. Adelaide St.&nbsp\;</span><br />\n<br />\n<span style="color:#FF8C00\;"><u><strong><span style="font-size:14px\;">North Leroy Street / North Fenton Road</span></strong></u></span><br />\n<span style="font-size:14px\;">Beale St. Smokehouse BBQ - 1492 N. Leroy St.<br />\nDouglas Water Conditioning - 1000 N. Leroy St.<br />\nFast Eddie&#39\;s Car Care - 1161 N. Leroy St.&nbsp\;<br />\nHalo Burger - 1355 N. Fenton Rd.<br />\nHOTWORX\, Fenton - 235 N. Leroy St.\, Ste. E<br />\nHungry Howie&#39\;s - 1003 N. Leroy St.<br />\nJet&#39\;s Pizza - 235 N. Leroy St.<br />\nT &amp\; B Custom Gifts - 14286 Fenton Rd.<br />\nRevIVe &amp\; Restore IV Hydration - 1535 N. Leroy St.\, Ste. D</span><br />\n<br />\n<span style="color:#FF8C00\;"><u><strong><span style="font-size:14px\;">Owen Road</span></strong></u></span><br />\n<span style="font-size:14px\;">2941 Mediterranean Street Food - 3409 Owen Rd.\, Ste. 500<br />\nAthletico Physical Therapy - 3401 Owen Rd.\, Ste. 400<br />\nLasco Ford - 2525 Owen Rd.<br />\nRandy Wise Automotive Team - 2530 Owen Rd.<br />\nVic Canever Chevrolet - 3000 Owen Rd.<br />\nVicinia Gardens of Fenton\, The Independent - 4016 Vicinia Way</span><br />\n<br />\n<span style="color:#FF8C00\;"><u><strong><span style="font-size:14px\;">Industrial Park</span></strong></u></span><br />\n<span style="font-size:14px\;">Provision Living at Fenton - 440 N. Fenway Drive<br />\nVic Bond Sales - 227 Industrial Way</span><br />\n<br />\n<span style="color:#FF8C00\;"><span style="font-size:14px\;"><u><strong>Silver Lake Road</strong></u></span></span><br />\n<span style="font-size:14px\;">Gerych&#39\;s Flowers &amp\; Gifts - 713 Silver Lake Rd.<br />\nKaydan Wealth Management - 329 W. Silver Lake Rd.<br />\nRe/Max Platinum - 3295 W. Silver Lake Rd.<br />\nThe Brand Real Estate - 3309 W. Silver Lake Rd.<br />\nVibe Well - 495 N. Fenway Dr.\, Ste. 2</span><br />\n<br />\n<span style="color:#FF8C00\;"><span style="font-size:14px\;"><u><strong>Silver Parkway</strong></u></span></span><br />\n<span style="font-size:14px\;">A Joyful Noise Music Studio - 17045 Silver Parkway<br />\nBeauchamp Water Treatment &amp\; Solutions - 19005 Silver Parkway\, Ste. A<br />\nCislo Insurance Partners @ Cislo Title - 17440 Silver Parkway<br />\nFinancial Plus Credit Union - 15125 Silver Parkway<br />\nGenisys Credit Union - 15405 Silver Parkway<br />\nLaFontaine Chrysler\, Jeep\, Dodge Ram of Fenton - 16555 Silver Parkway<br />\nTexas Roadhouse - 18555 Silver Parkway<br />\nThe Paint Centers-Fenton - 17095 Silver Parkway<br />\nThe UPS Store - 17195 Silver Parkway<br />\nThe Vitamin Shoppe - 19005 Silver Parkway\, Ste. B/C<br />\n<br />\n<span style="color:#FF8C00\;"><strong><u>Torrey Rd.</u></strong></span></span><br />\nPeabody Insurance Agency - 1190 Torrey Rd.<br />\n<br />\n<span style="color:#FF8C00\;"><u><strong><span style="font-size:14px\;">Linden</span></strong></u></span><br />\nBeloved Books - 208 N. Bridge St.<br />\nBlue Line Detailing - <span style="color:#800080\;"><strong>MOVED TO THE FENTON COMMUNITY CENTER!</strong></span><br />\nCollection on Bridge St. - 208 N. Bridge St.&nbsp\;<br />\nDr. Wax Orthodontics - 120 N. Bridge St.\, Ste. C<br />\nLinden Family Eye Care - 123 E. Broad St.<br />\nLinden Hotel - 122 E. Broad St.<br />\nPositively Pediatrics - 120 N. Bridge St.\, Ste. D<br />\nRachor Financial - 120 N. Bridge St. Ste. A<br />\nSerendipity Spa of Linden - 129 E. Broad St.<br />\nSunset Corals - 109 N. Bridge St.<br />\n&nbsp\;
LOCATION:At local participating Fenton & Linden businesses.
UID:e.1362.4597
SEQUENCE:3
DTSTAMP:20260419T180351Z
URL:https://business.fentonchamber.com/events/details/an-event-so-good-it-s-scary-2023-4597
END:VEVENT

END:VCALENDAR
