BEGIN:VCALENDAR
VERSION:2.0
PRODID:-//ChamberMaster//Event Calendar 2.0//EN
METHOD:PUBLISH
X-PUBLISHED-TTL:P3D
REFRESH-INTERVAL:P3D
CALSCALE:GREGORIAN
BEGIN:VEVENT
DTSTART:20221009T173000Z
DTEND:20221009T193000Z
X-MICROSOFT-CDO-ALLDAYEVENT:FALSE
SUMMARY:42nd Annual Fenton Area CROP Hunger Walk
DESCRIPTION:42nd Fenton/Linden/Lk Fenton/Holly CROP Hunger Walk Bush Park\, Fenton 25% of donations go to our backyard food pantries! The rest supports programs and disaster relief around the US and globally.. Rock the Crop chairs will be on-site too for those who physically cannot walk this year. Uncle Ray's Dairyland brings ice-cream sundaes to the finish line. Contact Kim for a walker envelope\, to donate\, and for more details.
X-ALT-DESC;FMTTYPE=text/html:42nd Fenton/Linden/Lk Fenton/Holly CROP Hunger Walk Bush Park\, Fenton 25% of donations go to our backyard food pantries! The rest supports programs and disaster relief around the US and globally.. Rock the Crop chairs will be on-site too for those who physically cannot walk this year. Uncle Ray&#39\;s Dairyland brings ice-cream sundaes to the finish line. Contact Kim for a walker envelope\, to donate\, and for more details.
LOCATION:Bush Park 200 Lincoln St\, Fenton\, MI (behind St. John's Church)
UID:e.1362.8957
SEQUENCE:3
DTSTAMP:20260420T122311Z
URL:https://business.fentonchamber.com/events/details/42nd-annual-fenton-area-crop-hunger-walk-8957
END:VEVENT

END:VCALENDAR
