BEGIN:VCALENDAR
VERSION:2.0
PRODID:-//ChamberMaster//Event Calendar 2.0//EN
METHOD:PUBLISH
X-PUBLISHED-TTL:P3D
REFRESH-INTERVAL:P3D
CALSCALE:GREGORIAN
BEGIN:VEVENT
DTSTART:20240301T210000Z
DTEND:20240302T000000Z
X-MICROSOFT-CDO-ALLDAYEVENT:FALSE
SUMMARY:2024 Lenten Fish Fry - St John Fenton
DESCRIPTION:"The Fry" - 2024 Lenten Fish Dinners at St John the Evangelist church in Fenton is offering 3 dinner options:\n\n	$14.00 3-Piece Fish (Fried\, Baked\, or Cajun)\n	$14.00 6-Piece Shrimp\n	$6.00 Kids Meal (Mac & Cheese\, Fries\, Applesauce)\n\nAll Dinners include these sides: Choice of Fries or Baked Potato\, Coleslaw\, Applesauce\, CRUST Bread as well as Lemonade or Coffee and one selection from Home-made Dessert table.  \n\nThat's a phenomenal value for your dollar\, especially since these are 2023 prices!!!  Order ahead online (using flyer QR-Code or www.stjohnfenton.org) through 10AM each Friday\, call in (810-629-3560) to order Friday's 1-6:30PM\, walk-in (600 N. Adelaide\, Fenton\, MI) doors open from 4:00\, taking orders till 7:00PM or till food lasts.  Cash and Credit accepted.  Dine-in or Cary-out.  50/50 drawing.  \n\nLooking for after-dinner entertainment???  Drive a few hundred feet over to the Knight's Hall for Friday Night Bingo!!!  Doors open at 4:30PM\, first game starts 6:30\, wrap-up between 8:30-9:00PM.  Pots range from $10's to $100's or sometimes $1000's.  Try your luck...maybe you recoup your dinner costs\, maybe a LOT more!
X-ALT-DESC;FMTTYPE=text/html:<strong>&quot\;The Fry&quot\; - </strong>2024 Lenten Fish Dinners <strong>at St John the Evangelist church in Fenton</strong> is offering <strong><u>3 dinner options</u></strong>:\n<ul>\n	<li>$14.00 3-Piece Fish (Fried\, Baked\, or Cajun)</li>\n	<li>$14.00 6-Piece Shrimp</li>\n	<li>$6.00 Kids Meal (Mac &amp\; Cheese\, Fries\, Applesauce)</li>\n</ul>\nAll Dinners include these sides: Choice of Fries or Baked Potato\, Coleslaw\, Applesauce\, <strong>CRUST Bread</strong> as well as Lemonade or Coffee and one selection from <strong>Home-made Dessert</strong> table.&nbsp\;&nbsp\;<br />\nThat&#39\;s a phenomenal value for your dollar\, especially since <strong>these are 2023 prices!!!</strong>&nbsp\; Order ahead online (using flyer <strong>QR-Code or www.stjohnfenton.org</strong>) through 10AM each Friday\, call in <strong>(810-629-3560)</strong> to order Friday&#39\;s 1-6:30PM\, walk-in (600 N. Adelaide\, Fenton\, MI) doors open from 4:00\, taking orders till 7:00PM or till food lasts.&nbsp\; Cash and Credit accepted.&nbsp\; Dine-in or Cary-out.&nbsp\; 50/50 drawing.&nbsp\;&nbsp\;<br />\nLooking for after-dinner entertainment???&nbsp\; Drive a few hundred feet over to the Knight&#39\;s Hall for <strong>Friday Night Bingo!!!&nbsp\;</strong> Doors open at 4:30PM\, first game starts 6:30\, wrap-up between 8:30-9:00PM.&nbsp\; Pots range from $10&#39\;s to $100&#39\;s or sometimes $1000&#39\;s.&nbsp\; Try your luck...maybe you recoup your dinner costs\, maybe a LOT more!
LOCATION:St John the Evangelist Catholic Church\, 625 Adelaide\, Fenton\, MI. Fish Fry at Father Harvey activity center\, follow signs and cones.
UID:e.1362.9697
SEQUENCE:3
DTSTAMP:20260421T101203Z
URL:https://business.fentonchamber.com/events/details/2024-lenten-fish-fry-st-john-fenton-03-01-2024-9697
END:VEVENT

END:VCALENDAR
