BEGIN:VCALENDAR
VERSION:2.0
PRODID:-//ChamberMaster//Event Calendar 2.0//EN
METHOD:PUBLISH
X-PUBLISHED-TTL:P3D
REFRESH-INTERVAL:P3D
CALSCALE:GREGORIAN
BEGIN:VEVENT
DTSTART:20230406T170000Z
DTEND:20230406T220000Z
X-MICROSOFT-CDO-ALLDAYEVENT:FALSE
SUMMARY:2023 Eggciting Easter Event
DESCRIPTION:Families are invited to hop around town visiting these participating businesses to collect goodies & treats to fill their Easter Baskets!  Rain\, Snow or Shine!  \n\n\n\nPARTICIPATING HOSPITALITY POINT BUSINESSES!  \n\n\n\nDowntown Fenton\n\nAcorn Wealth Advisors - 405 S. Leroy St.\n\nBrad Hoffman Insurance Agency - 102 S. Leroy St.\n\nCause & Affect Gallery - 126 N. Leroy St.\n\nColdwell Banker Professionals - 111 S. Leroy St.\, Ste. 4\n\nCrust - a baking co. - 104 W. Caroline St.\n\nFenton's Open Book - 105 W. Shiawassee\n\nIris Eyecare - 403 S. Leroy St.\n\nKeller Williams First - Fenton - 132 N. Leroy St.\n\nSalon 416 - 134 N. Leroy St.\, Ste. 2\n\nSeason on Leroy - 111 S. Leroy St.\, Ste. 2\n\nTemrowski Family Funeral Home & Cremation Services - 500 Main St.\n\nThe Cheese Lady - 121 First St.\n\nThe Laundry - 125 W. Shiawassee\n\n\n\nFenton Community & Cultural Center\n\nBeauchamp Water Treatment Solutions - 150 S. Leroy St.\n\nDr. Wax Orthodontics - 150 S. Leroy St.\n\nPromotions Guy - 150 S. Leroy St.\n\nSouthern Lakes Park & Recreation - 150 S. Leroy St.\n\nTom Tom Photo Booth - 150 S. Leroy St.\n\n\n\nSouth Adelaide Street\n\nFenton & Linden Regional Chamber of Commerce - 104 S. Adelaide St.\n\n\n\nNorth Leroy Street / North Fenton Road\n\nBeale St. Smokehouse BBQ - 1492 N. Leroy St.\n\nBiggby Coffee Fenton - 235 N. Leroy St.\, Ste. A\n\nDouglas Water Conditioning - 1000 N. Leroy St.\n\nFenton Home Furnishings - 1136 N. Leroy St.\n\nFenton Massage Co. - 1250 N. Leroy St.\n\nHOTWORX Fenton - 235 N. Leroy St.\, Ste. E\n\nLegacy Realty Professionals - 526 N. Leroy St.\n\nThe Brokerage Real Estate Enthusiasts - 1219 N. Leroy St.\n\n\n\nOwen Road\n\n2941 Mediterranean Street Food - 3409 Owen Rd.\, Ste. 500\n\nLasco Ford - 2525 Owen Rd.\n\nRandy Wise Automotive Team - 2530 Owen Rd.\n\nVic Canever Chevrolet - 3000 Owen Rd.\n\n\n\nSilver Parkway\n\nFinancial Plus Credit Union - 15125 Silver Parkway\n\nGenisys Credit Union - 15405 Silver Parkway\n\nLaFontaine Chrysler Jeep Dodge Ram of Fenton - 16555 Silver Parkway\n\nThe UPS Store - 17195 Silver Parkway\n\n\n\nSilver Lake Road\n\nFirst Choice Heating & Cooling - 1020 Silver Lake Rd.\n\nRe/Max Platinum - 3295 W. Silver Lake Rd.\n\n\n\nIndustrial Park\n\nVibe Well - 495 Fenway Dr.\, Ste. 2\n\n\n\nNorth Road\n\nAdvanced Physical Therapy Center - 2500 North Rd.\n\n\n\nDowntown Linden\n\nLinden Family Eye Care - 123 E. Broad St.\n\nPositively Pediatrics - 120 N. Bridge St.\, Ste. D\n\nSerendipity Spa of Linden - 129 E. Broad St.\n\nSymphony Linden - 202 S. Bridge St.
X-ALT-DESC;FMTTYPE=text/html:<em>Families are invited to hop around town visiting these participating businesses to collect goodies &amp\; treats to fill their Easter Baskets!&nbsp\; Rain\, Snow or Shine!&nbsp\;&nbsp\;<br />\n<br />\n<span style="color:#800080\;"><span style="font-size:16px\;">PARTICIPATING HOSPITALITY POINT BUSINESSES!&nbsp\;&nbsp\;</span></span></em><br />\n<br />\n<b><u>Downtown Fenton</u></b><br />\nAcorn Wealth Advisors - 405 S. Leroy St.<br />\nBrad Hoffman Insurance Agency - 102 S. Leroy St.<br />\nCause &amp\; Affect Gallery - 126 N. Leroy St.<br />\nColdwell Banker Professionals - 111 S. Leroy St.\, Ste. 4<br />\nCrust - a baking co. - 104 W. Caroline St.<br />\nFenton&#39\;s Open Book - 105 W. Shiawassee<br />\nIris Eyecare - 403 S. Leroy St.<br />\nKeller Williams First - Fenton - 132 N. Leroy St.<br />\nSalon 416 - 134 N. Leroy St.\, Ste. 2<br />\nSeason on Leroy - 111 S. Leroy St.\, Ste. 2<br />\nTemrowski Family Funeral Home &amp\; Cremation Services - 500 Main St.<br />\nThe Cheese Lady - 121 First St.<br />\nThe Laundry - 125 W. Shiawassee<br />\n<br />\n<b><u>Fenton Community &amp\; Cultural Center</u></b><br />\nBeauchamp Water Treatment Solutions - 150 S. Leroy St.<br />\nDr. Wax Orthodontics - 150 S. Leroy St.<br />\nPromotions Guy - 150 S. Leroy St.<br />\nSouthern Lakes Park &amp\; Recreation - 150 S. Leroy St.<br />\nTom Tom Photo Booth - 150 S. Leroy St.<br />\n<br />\n<b><u>South Adelaide Street</u></b><br />\nFenton &amp\; Linden Regional Chamber of Commerce - 104 S. Adelaide St.<br />\n<br />\n<b><u>North Leroy Street / North Fenton Road</u></b><br />\nBeale St. Smokehouse BBQ - 1492 N. Leroy St.<br />\nBiggby Coffee Fenton - 235 N. Leroy St.\, Ste. A<br />\nDouglas Water Conditioning - 1000 N. Leroy St.<br />\nFenton Home Furnishings - 1136 N. Leroy St.<br />\nFenton Massage Co. - 1250 N. Leroy St.<br />\nHOTWORX Fenton - 235 N. Leroy St.\, Ste. E<br />\nLegacy Realty Professionals - 526 N. Leroy St.<br />\nThe Brokerage Real Estate Enthusiasts - 1219 N. Leroy St.<br style="color: rgb(51\, 51\, 51)\; font-family: sans-serif\, Arial\, Verdana\, &quot\;Trebuchet MS&quot\;\; font-size: 13px\;" />\n<br style="color: rgb(51\, 51\, 51)\; font-family: sans-serif\, Arial\, Verdana\, &quot\;Trebuchet MS&quot\;\; font-size: 13px\;" />\n<b><u>Owen Road</u></b><br />\n2941 Mediterranean Street Food - 3409 Owen Rd.\, Ste. 500<br />\nLasco Ford - 2525 Owen Rd.<br />\nRandy Wise Automotive Team - 2530 Owen Rd.<br />\nVic Canever Chevrolet - 3000 Owen Rd.<br />\n<br />\n<u><strong>Silver Parkway</strong></u><br />\nFinancial Plus Credit Union - 15125 Silver Parkway<br />\nGenisys Credit Union - 15405 Silver Parkway<br />\nLaFontaine Chrysler Jeep Dodge Ram of Fenton - 16555 Silver Parkway<br />\nThe UPS Store - 17195 Silver Parkway<br />\n<br />\n<u><strong>Silver Lake Road</strong></u><br />\nFirst Choice Heating &amp\; Cooling - 1020 Silver Lake Rd.<br />\nRe/Max Platinum - 3295 W. Silver Lake Rd.<br />\n<br />\n<u><strong>Industrial Park</strong></u><br />\nVibe Well - 495 Fenway Dr.\, Ste. 2<br />\n<br style="color: rgb(51\, 51\, 51)\; font-family: sans-serif\, Arial\, Verdana\, &quot\;Trebuchet MS&quot\;\; font-size: 13px\;" />\n<b><u>North Road</u></b><br />\nAdvanced Physical Therapy Center - 2500 North Rd.<br />\n<br />\n<b><u>Downtown Linden</u></b><br />\nLinden Family Eye Care - 123 E. Broad St.<br />\nPositively Pediatrics - 120 N. Bridge St.\, Ste. D<br />\nSerendipity Spa of Linden - 129 E. Broad St.<br />\nSymphony Linden - 202 S. Bridge St.<br />\n<br />\n<br />\n&nbsp\;
LOCATION:Community wide business participation in Fenton & Linden.
UID:e.1362.9169
SEQUENCE:3
DTSTAMP:20260420T043814Z
URL:https://business.fentonchamber.com/events/details/2023-eggciting-easter-event-9169
END:VEVENT

END:VCALENDAR
