BEGIN:VCALENDAR
VERSION:2.0
PRODID:-//ChamberMaster//Event Calendar 2.0//EN
METHOD:PUBLISH
X-PUBLISHED-TTL:P3D
REFRESH-INTERVAL:P3D
CALSCALE:GREGORIAN
BEGIN:VEVENT
DTSTART;VALUE=DATE:20220520
DTEND;VALUE=DATE:20220521
TRANSP:TRANSPARENT
X-MICROSOFT-CDO-ALLDAYEVENT:TRUE
SUMMARY:2022 More Than Just a Golf Scramble
DESCRIPTION:More Than Just Golf Scramble!\n\n18 Holes. One Day of Fun!\n\n\n\nThe All-Inclusive Golf Package\n\n$640.00 Per Team or $160.00 Per Golfer \n\n18 Holes of Golf with Cart and Entry into these Contests:\n\n	Drawing for $2500.00  Long Putt Contest\n	Putting\, Long Drive\, and Closest to the Pin\n	Breakfast\, Lunch\, and Dinner\n	Awards & Prizes
X-ALT-DESC;FMTTYPE=text/html:<span style="color:#008000\;"><span style="font-size:18px\;"><strong>More Than Just Golf Scramble!</strong></span></span><br />\n<strong><span style="color:#008000\;">18 Holes. One Day of Fun!</span></strong><br />\n<br />\n<span style="color: rgb(51\, 51\, 51)\; font-family: sans-serif\, Arial\, Verdana\, &quot\;Trebuchet MS&quot\;\; font-size: 13px\; background-color: rgb(255\, 255\, 255)\;">The All-Inclusive Golf Package<br />\n$640.00 Per Team or $160.00 Per Golfer&nbsp\;<br />\n18 Holes of Golf with Cart and Entry into these Contests:</span>\n<ul style="padding: 0px 40px\; color: rgb(51\, 51\, 51)\; font-family: sans-serif\, Arial\, Verdana\, &quot\;Trebuchet MS&quot\;\; font-size: 13px\;">\n	<li>Drawing for $2500.00&nbsp\; Long Putt&nbsp\;Contest</li>\n	<li>Putting\, Long Drive\, and Closest to the Pin</li>\n	<li>Breakfast\, Lunch\, and Dinner</li>\n	<li>Awards &amp\; Prizes</li>\n</ul>\n
LOCATION:Coyote Preserve Golf Club Fenton MI 48430
UID:e.1362.8511
SEQUENCE:3
DTSTAMP:20260420T074629Z
URL:https://business.fentonchamber.com/events/details/2022-more-than-just-a-golf-scramble-8511
END:VEVENT

END:VCALENDAR
