BEGIN:VCALENDAR
VERSION:2.0
PRODID:-//ChamberMaster//Event Calendar 2.0//EN
METHOD:PUBLISH
X-PUBLISHED-TTL:P3D
REFRESH-INTERVAL:P3D
CALSCALE:GREGORIAN
BEGIN:VEVENT
DTSTART:20221203T200000Z
DTEND:20221203T220000Z
X-MICROSOFT-CDO-ALLDAYEVENT:FALSE
SUMMARY:2022 JingleJog 5K Run & Walk
DESCRIPTION:Fenton JingleJog 5K Race/Walk Results are in! Click Here to see how you did!\n\nThe JingleJog kicks off the Jinglefest celebration\, shopping\, ice sculptures\, horse & carriage rides & a lighted parade at 6:00 pm!\n\n\n\nJINGLEJOG REGISTRATION CLICK HERE!\n\nEarly Bird Registration (Before November 18th) -also-  includes a Jinglejog T-shirt: $25\n\nAfter November 18th Deadline: $30\n\n\n\nWear a Santa costume or ugly Christmas sweater\, and you will receive a $5 refund at registration!\n\n\n\nStarting Time: The race will begin at 3:00 pm.\n\nLocation: Race begins and ends behind the Fenton United Methodist Church Family Life Center\, 119 S. Leroy St. Fenton\, MI \n\nPacket Pick-Up: RACE Day 1:00 pm - 2:45 pm Fenton United Methodist Church Family Life Center\, 119 S. Leroy St. Fenton\, MI \n\nThe day before the race: December 3rd at Fenton & Linden Regional Chamber of Commerce Office (3 pm-6 pm)\n\n\n\nCourse: behind the Fenton United Methodist Church Family Life Center 119 S. Leroy St. Mostly flat\, fast\, and well-marked on paved streets in downtown Fenton. Roads are open to vehicle traffic and are monitored by police & volunteers.
X-ALT-DESC;FMTTYPE=text/html:<span style="font-size:28px\;"><strong><span style="color:#006400\;">Fenton JingleJog 5K Race/Walk Results are in! <a href="https://www.athlinks.com/event/4195/results/Event/1032252/Results">Click Here </a>to see how you did!</span></strong></span><br />\nThe JingleJog kicks off the Jinglefest celebration\, shopping\, ice sculptures\, horse &amp\; carriage rides &amp\; a lighted parade at 6:00 pm!<br />\n<br />\n<a href="https://www.athlinks.com/event/fenton-jinglejog-2022-4195"><span style="font-size:28px\;"><span style="color:#FF0000\;"><strong>JINGLEJOG REGISTRATION <em>CLICK HERE!</em></strong></span></span></a><br />\n<strong>Early Bird Registration </strong><span style="font-size:12px\;"><strong>(Before November 18th) -also-&nbsp\; includes a Jinglejog T-shirt:</strong></span>&nbsp\;$25<br />\n<strong>After November 18th Deadline:</strong> $30<br />\n<br />\n<span style="color:#008000\;"><span style="font-size:14px\;"><strong>Wear a Santa costume or ugly Christmas sweater\, and you will receive a $5 refund at registration!</strong></span></span><br />\n<br />\n<strong background-color:="" font-size:="" open="" style="color: rgb(0\, 0\, 0)\; font-family: ">Starting Time</strong><span background-color:="" font-size:="" open="" style="color: rgb(0\, 0\, 0)\; font-family: ">: The race will begin at 3:00 pm.</span><br background-color:="" font-size:="" open="" style="color: rgb(0\, 0\, 0)\; font-family: " />\n<strong background-color:="" font-size:="" open="" style="color: rgb(0\, 0\, 0)\; font-family: ">Location</strong><span background-color:="" font-size:="" open="" style="color: rgb(0\, 0\, 0)\; font-family: ">: Race begins and ends behind the Fenton United Methodist Church Family Life Center\, 119 S. Leroy St. Fenton\, MI&nbsp\;</span><br background-color:="" font-size:="" open="" style="color: rgb(0\, 0\, 0)\; font-family: " />\n<strong background-color:="" font-size:="" open="" style="color: rgb(0\, 0\, 0)\; font-family: ">Packet Pick-Up</strong><span background-color:="" font-size:="" open="" style="color: rgb(0\, 0\, 0)\; font-family: ">: </span><strong><span style="color:#FF0000\;"><span background-color:="" font-size:="" open="">RACE Day</span></span></strong><span background-color:="" font-size:="" open="" style="color: rgb(0\, 0\, 0)\; font-family: ">&nbsp\;1:00 pm - 2:45 pm Fenton United Methodist Church Family Life Center\, 119 S. Leroy St. Fenton\, MI </span><br />\nThe day before the race:<span style="font-size:12px\;"><span style="font-family:tahoma\;">&nbsp\;<span style="font-size:14px\;"><span style="font-family:arial\;"><span style="color: rgb(255\, 0\, 0)\;"><strong>December 3rd</strong></span><span style="color: rgb(5\, 76\, 41)\;">&nbsp\;at Fenton &amp\; Linden Regional Chamber of Commerce Office (3 pm-6 pm)</span></span></span></span></span><br />\n<br />\n<span background-color:="" font-size:="" open="" style="color: rgb(0\, 0\, 0)\; font-family: "><strong>Course:</strong> behind the Fenton United Methodist Church Family Life Center 119 S. Leroy St. Mostly flat\, fast\, and well-marked on paved streets in downtown Fenton. Roads are open to vehicle traffic and are monitored by police &amp\; volunteers.</span><br />\n&nbsp\;\n<table border="0" cellpadding="0" cellspacing="0" width="585">\n	<colgroup>\n		<col style="width:140px\;" />\n		<col style="width:115px\;" />\n		<col style="width:64px\;" />\n		<col style="width:127px\;" />\n		<col style="width:140px\;" />\n	</colgroup>\n	<tbody>\n	</tbody>\n</table>\n<br />\n&nbsp\;
LOCATION:The race begins on Walnut St. behind the Family Life Center (119 S. Leroy St.\, Fenton\, MI)
UID:e.1362.8514
SEQUENCE:3
DTSTAMP:20260420T082655Z
URL:https://business.fentonchamber.com/events/details/2022-jinglejog-5k-run-walk-8514
END:VEVENT

END:VCALENDAR
