BEGIN:VCALENDAR
VERSION:2.0
PRODID:-//ChamberMaster//Event Calendar 2.0//EN
METHOD:PUBLISH
X-PUBLISHED-TTL:P3D
REFRESH-INTERVAL:P3D
CALSCALE:GREGORIAN
BEGIN:VEVENT
DTSTART;VALUE=DATE:20221203
DTEND;VALUE=DATE:20221212
TRANSP:TRANSPARENT
X-MICROSOFT-CDO-ALLDAYEVENT:TRUE
SUMMARY:2022 Jinglefest Shopping Spree
DESCRIPTION:Holiday Gift Card Shopping Spree! \n\nHoliday Shop during this Community-Wide event!\n\n\n\nEnter your name into the Grand Prize drawing for a Gift Card Shopping Spree from each of the participating businesses. Visit the following businesses from December 3rd - December 11th and enter the drawing. One entry per visit please. The Holiday Shopping Spree winner will be notified by the Chamber.  \n\n\n\nWin a gift card from all of the following businesses:\n\n\n\n2941 Mediterranean Street Food - 3409 Owen Rd.\, Ste. 500\n\nAction Water Sports - 8051 Old US 23\n\nAlive & Well Fenton - 202 W. Shiawassee Ave.\, Ste.110\n\nBeauchamp Water Treatment Solutions - 872 N. Old US 23\n\nCause & Affect Gallery - 126 N. Leroy Street\n\nCrust-a baking company - 104 W. Caroline Street\n\nCyclefit Sports - 1006 N. Leroy St.\n\nFenton Home Furnishings - 1136 N. Leroy St.\n\nFenton's Open Book - 105 W. Shiawassee Ave.\n\nGo! Mobile Physical Therapy - gomobiletherapy.com \n\nGreat Lakes Grills - 14305 Fenton Road\n\nHippos Eatery - 17225 Silver Parkway\n\nSeasons On Leroy - 111 S. Leroy St.\, Ste. 2\n\nSerendipity Spa of Linden - 129 E. Broad St.\n\nThe Laundry - 125 W. Shiawassee Ave. \n\nThe State Bank - 15095 Silver Parkway\n\nThe UPS Store - 17195 Silver Parkway\n\nTropical Smoothie Cafe - 4009 Owen Rd.\n\nVibe Well - 495 Fenway Drive\, Ste. 2
X-ALT-DESC;FMTTYPE=text/html:<strong><span style="color:#008000\;"><span style="font-size:14px\;"><span style="font-size:16px\;">Holiday Gift Card Shopping Spree!</span></span></span><span style="color:#FF0000\;"><span style="font-size:14px\;"><span style="font-size:16px\;">&nbsp\;<br />\nHoliday Shop during this Community-Wide event!</span></span></span></strong><br />\n<br />\n<span style="font-size:14px\;">Enter your name into the Grand Prize drawing for a<span style="color:#008000\;"> Gift Card Shopping Spree </span>from each of the participating businesses. Visit the following businesses from<span style="color:#008000\;"> December 3rd - December 11th</span> and enter the drawing. One entry per visit please. The Holiday Shopping Spree winner will be notified by the Chamber.&nbsp\;&nbsp\;<br />\n<br />\n<span style="color:#FF0000\;"><u><span style="font-size:16px\;">Win a gift card from all of the following businesses:</span></u></span><br />\n<br />\n2941 Mediterranean Street Food - 3409 Owen Rd.\, Ste. 500<br />\nAction Water Sports - 8051 Old US 23<br />\nAlive &amp\; Well Fenton - 202 W. Shiawassee Ave.\, Ste.110<br />\nBeauchamp Water Treatment Solutions - 872 N. Old US 23<br />\nCause &amp\; Affect Gallery - 126 N. Leroy Street<br />\nCrust-a baking company - 104 W. Caroline Street<br />\nCyclefit Sports - 1006 N. Leroy St.<br />\nFenton Home Furnishings - 1136 N. Leroy St.<br />\nFenton&#39\;s Open Book - 105 W. Shiawassee Ave.<br />\nGo! Mobile Physical Therapy - gomobiletherapy.com&nbsp\;<br />\nGreat Lakes Grills - 14305 Fenton Road<br />\nHippos Eatery - 17225 Silver Parkway<br />\nSeasons On Leroy - 111 S. Leroy St.\, Ste. 2<br />\nSerendipity Spa of Linden - 129 E. Broad St.<br />\nThe Laundry - 125 W. Shiawassee Ave.&nbsp\;<br />\nThe State Bank - 15095 Silver Parkway<br />\nThe UPS Store - 17195 Silver Parkway<br />\nTropical Smoothie Cafe - 4009 Owen Rd.<br />\nVibe Well - 495 Fenway Drive\, Ste. 2</span><br />\n&nbsp\;
LOCATION:Community wide event in Fenton & Linden.
UID:e.1362.8960
SEQUENCE:3
DTSTAMP:20260420T105201Z
URL:https://business.fentonchamber.com/events/details/2022-jinglefest-shopping-spree-8960
END:VEVENT

END:VCALENDAR
