BEGIN:VCALENDAR
VERSION:2.0
PRODID:-//ChamberMaster//Event Calendar 2.0//EN
METHOD:PUBLISH
X-PUBLISHED-TTL:P3D
REFRESH-INTERVAL:P3D
CALSCALE:GREGORIAN
BEGIN:VEVENT
DTSTART;VALUE=DATE:20221203
DTEND;VALUE=DATE:20221204
TRANSP:TRANSPARENT
X-MICROSOFT-CDO-ALLDAYEVENT:TRUE
SUMMARY:2022 Jinglefest
DESCRIPTION:Jinglefest 2022 - \n\nHoliday Lighted Parade and Fireworks are Back!!\n\n\n\nCLICK HERE for the Event Schedule:\n\n \n\n	Jinglefest Shopping Spree Kickoff   \n	\n		 Click here to view locations!\n	\n	\n	Jinglejog 5K Run & Walk\n	Ice Sculptures\n	Horse & Carriage Rides\n	Warming Tent\n	Entertainment\n	Refreshments\n	Holiday Lighted Parade (6pm)\n	Tree Lighting\n	Fireworks\n\n\n\nThe Parade has reached capacity! Join us on the sidelines to enjoy the parade!\n\nDownload and read the Parade Rules & Regulations (required) then register online by clicking HERE.  (ALL entries must be decorated with lights).\n\nDownload the Parade Route/Information\, Parade Registration Form & Rules and Regulations\n\nor \n\nDownload and print the form above and submit it to the Chamber Office with payment.\n\nDownload the Parade Route/Information\, Parade Registration Form & Rules and Regulations
X-ALT-DESC;FMTTYPE=text/html:<span style="font-size:24px\;"><span style="color:#008000\;"><strong>Jinglefest 2022 -&nbsp\;</strong></span><br />\n<span style="color:#B22222\;"><span style="font-size:26px\;"><strong>Holiday Lighted Parade and Fireworks are Back!!</strong></span></span><br />\n<br />\n<a href="https://chambermaster.blob.core.windows.net/userfiles/UserFiles/chambers/1362/File/Events/2022_Jinglefest/JinglefestDigitalFlyer-schools.PNG"><span style="color:#FF0000\;"><span style="font-size:18px\;">CLICK HERE</span></span></a><span style="color:#008000\;"><span style="font-size:18px\;"> for the Event Schedule:</span></span></span><br />\n&nbsp\;\n<ul>\n	<li><span style="font-size:36px\;"><strong><span style="color:#A52A2A\;">Jinglefest Shopping Spree Kickoff&nbsp\; &nbsp\;</span></strong></span>\n	<ul>\n		<li><span style="font-size:36px\;"><strong><span style="color:#006400\;">&#8203\;</span><a href="https://business.fentonchamber.com/events/details/2022-jinglefest-shopping-spree-8960"><span style="color:#006400\;">Click here to view locations!</span></a></strong></span></li>\n	</ul>\n	</li>\n	<li><span style="font-size:18px\;"><strong><span style="color:#A52A2A\;">Jinglejog 5K Run &amp\; Walk</span></strong></span></li>\n	<li><span style="font-size:18px\;"><strong><span style="color:#A52A2A\;">Ice Sculptures</span></strong></span></li>\n	<li><span style="font-size:18px\;"><strong><span style="color:#A52A2A\;">Horse &amp\; Carriage Rides</span></strong></span></li>\n	<li><span style="font-size:18px\;"><strong><span style="color:#A52A2A\;">Warming Tent</span></strong></span></li>\n	<li><span style="font-size:18px\;"><strong><span style="color:#A52A2A\;">Entertainment</span></strong></span></li>\n	<li><span style="font-size:18px\;"><strong><span style="color:#A52A2A\;">Refreshments</span></strong></span></li>\n	<li><span style="font-size:18px\;"><strong><span style="color:#A52A2A\;">Holiday Lighted Parade (6pm)</span></strong></span></li>\n	<li><span style="font-size:18px\;"><strong><span style="color:#A52A2A\;">Tree Lighting</span></strong></span></li>\n	<li><span style="font-size:18px\;"><strong><span style="color:#A52A2A\;">Fireworks</span></strong></span></li>\n</ul>\n<br />\n<span style="font-size:16px\;"><font color="#ff0000"><b>The Parade has reached capacity! Join us on the sidelines to enjoy the parade!</b></font><br />\nDownload and read the Parade Rules &amp\; Regulations (required) then register online by clicking <strong><a href="https://fentonchamber.chambermaster.com/eventregistration/register/8513">HERE.</a>&nbsp\;</strong>&nbsp\;(ALL entries must be decorated with lights).</span><br />\n<a href="https://chambermaster.blob.core.windows.net/userfiles/UserFiles/chambers/1362/File/Events/2022_Jinglefest/InformationRulesandRegulationsandRegistrationForms.pdf"><em><strong><span style="font-size:14px\;">Download the Parade Route/Information\, Parade Registration Form &amp\; Rules and Regulations</span></strong></em></a><br />\nor&nbsp\;<br />\n<span style="font-size: 16px\;">Download and print the form above and submit it to the Chamber Office with payment.</span><br />\n<a href="https://chambermaster.blob.core.windows.net/userfiles/UserFiles/chambers/1362/File/Events/2022_Jinglefest/InformationRulesandRegulationsandRegistrationForms.pdf"><em><strong><span style="font-size: 14px\;">Download the Parade Route/Information\, Parade Registration Form &amp\; Rules and Regulations</span></strong></em></a><br />\n<br />\n<br />\n<br />\n<br />\n&nbsp\;
LOCATION:Downtown Fenton
UID:e.1362.8513
SEQUENCE:3
DTSTAMP:20260420T092328Z
URL:https://business.fentonchamber.com/events/details/2022-jinglefest-8513
END:VEVENT

END:VCALENDAR
