BEGIN:VCALENDAR
VERSION:2.0
PRODID:-//ChamberMaster//Event Calendar 2.0//EN
METHOD:PUBLISH
X-PUBLISHED-TTL:P3D
REFRESH-INTERVAL:P3D
CALSCALE:GREGORIAN
BEGIN:VEVENT
DTSTART:20230422T140000Z
DTEND:20230422T180000Z
X-MICROSOFT-CDO-ALLDAYEVENT:FALSE
SUMMARY:Volunteer on Earth Day
DESCRIPTION:The Headwaters Trails and Clarkston's Blue Heron Headwaters Conservancy are leading an outdoor clean-up of a public nature trail in Holly. Work will include clearing the trail with loppers and burning the invasive plants\, and weed whipping to widen the trail.\n\n	Sack lunch will be provided\n	most tools are provided\, but please bring loppers if you have them\n	Please wear closed footwear\, long pants\, and gardening gloves\n	Parking is on a grass lot next to the trailhead\, next to 377 Hidden River E\, Holly MI 48442  (look for signs)\n	Feel free to bring family or friends\n	Please register all participants here\n\nThis is a great opportunity to engage with nature and improve community areas on Earth Day.
X-ALT-DESC;FMTTYPE=text/html:The Headwaters Trails and Clarkston&#39\;s Blue Heron Headwaters Conservancy are leading an outdoor clean-up of a public nature trail in Holly. Work will include clearing the trail with loppers and burning the invasive plants\, and weed whipping to widen the trail.\n<ul>\n	<li>Sack lunch will be provided</li>\n	<li>most tools are provided\, but please bring loppers if you have them</li>\n	<li>Please wear closed footwear\, long pants\, and gardening gloves</li>\n	<li>Parking is on a grass lot next to the trailhead\,&nbsp\;<u>next to 377 Hidden River E\, Holly MI 48442</u>&nbsp\; (look for signs)</li>\n	<li>Feel free to bring family or friends</li>\n	<li><strong><a href="http://www.headwaterstrailsinc.org/events/#event=75840577\;instance=20230422100000?popup=1">Please register all participants here</a></strong></li>\n</ul>\nThis is a great opportunity to engage with nature and improve community areas on Earth Day.
LOCATION:Parking is on a grass lot next to the trailhead\, next to 377 Hidden River E\, Holly MI 48442 (look for signs)
UID:e.1362.9231
SEQUENCE:3
DTSTAMP:20260423T063302Z
URL:http://business.fentonchamber.com/events/details/volunteer-on-earth-day-9231
END:VEVENT

END:VCALENDAR
