BEGIN:VCALENDAR
VERSION:2.0
PRODID:-//ChamberMaster//Event Calendar 2.0//EN
METHOD:PUBLISH
X-PUBLISHED-TTL:P3D
REFRESH-INTERVAL:P3D
CALSCALE:GREGORIAN
BEGIN:VEVENT
DTSTART:20140807T200000Z
DTEND:20140808T000000Z
X-MICROSOFT-CDO-ALLDAYEVENT:FALSE
SUMMARY:Taste in Fenton
DESCRIPTION:ONLINE TICKET SALES HAVE ENDED.  STOP INTO THE CHAMBER OFFICE TO PURCHASE TICKETS AHEAD OF THE EVENT.\n\n\n\nTickets purchased online will be available for pick up at will call at the event.\n\n\n\nClick Here for Menu\n\n\n\nParticipating Restaurants:\n\n\n	Beale St. Smokehouse\n	Biggby Coffee\n	Canadian Steak\, Fish & Sandwich Co\n	Crust\n	Culver's of Fenton\n	Eat! Drink! Food Truck\n	Fenton Fire Hall Kitchen & Taproom\n	Fun with Frosting\n	Hungry Howie's Pizza\n	Jet's Pizza\n	Legend's Sports Caf \n	Mancino's of Fenton\n	Planks on the Lake Grill & Bar\n	Spring Meadows County Club\n	Steak & Hoagie Factory\n	Tami's Sweet Treats\n	The Laundry\n	Tropical Smoothie Caf \n	VG's Bakery & Deli\n\n\n\nThank you to our Sponsors:\n\n\n\nPresenting Sponsors:\n\n\n	City of Fenton DDA\n	The State Bank\n	VG's Grocery\n\nBand Sponsors:\n\n\n	Vicinia Gardens of Fenton\n	Health Alliance Plan\n\nRoot Beer Sponsor:\n\n\n	Financial Plus Credit Union\n\nKids Zone Sponsors:\n\n\n	Valley Tent Rental\n	Fenton Medical Center\n	LaFontaine Automotive Group\n	ELGA Credit Union\n\nWater Sponsor:\n\n\n	Douglas Water Conditioning\n\nAle Sponsor:\n\n\n	DeWeese & Associates\n\nWine Sponsor:\n\n\n	Vein Solutions\n\nTicket Sponsor:\n\n\n	Behind Your Design\n\nNapkin Sponsor:\n\n\n	Genesee Valley Center\n\nTo Go Box Sponsor:\n\n\n	C&L Ward\n\nPhoto Booth Sponsor:\n\n\n	The State Bank
X-ALT-DESC;FMTTYPE=text/html:<span style="color:#FF0000\;">ONLINE TICKET SALES HAVE ENDED.&nbsp\; STOP INTO THE CHAMBER OFFICE TO PURCHASE TICKETS AHEAD OF THE EVENT.</span><br />\n<br />\nTickets purchased online will be available for pick up at will call at the event.<br />\n<br />\n<a href="http://cloud.chambermaster.com/userfiles/UserFiles/chambers/1362/File/TasteProgram.pdf">Click Here for Menu</a><br />\n<br />\n<u><strong>Participating Restaurants:</strong></u>\n\n<ul>\n	<li>Beale St. Smokehouse</li>\n	<li>Biggby Coffee</li>\n	<li>Canadian Steak\, Fish &amp\; Sandwich Co</li>\n	<li>Crust</li>\n	<li>Culver&#39\;s of Fenton</li>\n	<li>Eat! Drink! Food Truck</li>\n	<li>Fenton Fire Hall Kitchen &amp\; Taproom</li>\n	<li>Fun with Frosting</li>\n	<li>Hungry Howie&rsquo\;s Pizza</li>\n	<li>Jet&rsquo\;s Pizza</li>\n	<li>Legend&rsquo\;s Sports Caf&eacute\;</li>\n	<li>Mancino&rsquo\;s of Fenton</li>\n	<li>Planks on the Lake Grill &amp\; Bar</li>\n	<li>Spring Meadows County Club</li>\n	<li>Steak &amp\; Hoagie Factory</li>\n	<li>Tami&rsquo\;s Sweet Treats</li>\n	<li>The Laundry</li>\n	<li>Tropical Smoothie Caf&eacute\;</li>\n	<li>VG&rsquo\;s Bakery &amp\; Deli</li>\n</ul>\n<br />\n<u><strong>Thank you to our Sponsors:</strong></u><br />\n<br />\n<u>Presenting Sponsors:</u>\n\n<ul>\n	<li>City of Fenton DDA</li>\n	<li>The State Bank</li>\n	<li>VG&#39\;s Grocery</li>\n</ul>\n<u>Band Sponsors:</u>\n\n<ul>\n	<li>Vicinia Gardens of Fenton</li>\n	<li>Health Alliance Plan</li>\n</ul>\n<u>Root Beer Sponsor:</u>\n\n<ul>\n	<li>Financial Plus Credit Union</li>\n</ul>\n<u>Kids Zone Sponsors:</u>\n\n<ul>\n	<li>Valley Tent Rental</li>\n	<li>Fenton Medical Center</li>\n	<li>LaFontaine Automotive Group</li>\n	<li>ELGA Credit Union</li>\n</ul>\n<u>Water Sponsor:</u>\n\n<ul>\n	<li>Douglas Water Conditioning</li>\n</ul>\n<u>Ale Sponsor:</u>\n\n<ul>\n	<li>DeWeese &amp\; Associates</li>\n</ul>\n<u>Wine Sponsor:</u>\n\n<ul>\n	<li>Vein Solutions</li>\n</ul>\n<u>Ticket Sponsor:</u>\n\n<ul>\n	<li>Behind Your Design</li>\n</ul>\n<u>Napkin Sponsor:</u>\n\n<ul>\n	<li>Genesee Valley Center</li>\n</ul>\n<u>To Go Box Sponsor:</u>\n\n<ul>\n	<li>C&amp\;L Ward</li>\n</ul>\n<u>Photo Booth Sponsor:</u>\n\n<ul>\n	<li>The State Bank</li>\n</ul>\n
LOCATION:Fenton Community & Cultural Center grounds Buy 10 tickets for $10.00 ahead of the event Tickets cost $15.00 on the day.
UID:e.1362.1628
SEQUENCE:3
DTSTAMP:20260420T083316Z
URL:http://business.fentonchamber.com/events/details/taste-in-fenton-08-07-2014-1628
END:VEVENT

END:VCALENDAR
